BEGIN:VCALENDAR
VERSION:2.0
PRODID:-//SANITI//NONSGML Events//EN
CALSCALE:GREGORIAN
X-ORIGINAL-URL:https://saniti.co.nz/events/event/
X-WR-CALDESC:SANITI - Events
BEGIN:VEVENT
UID:20241202T0722Z-1733124143.3474-EO-2807-1@149.28.176.14
STATUS:CONFIRMED
DTSTAMP:20260422T233726Z
CREATED:20241128T205656Z
LAST-MODIFIED:20241128T230642Z
DTSTART;TZID=Pacific/Auckland:20250124T210000
DTEND;TZID=Pacific/Auckland:20250124T230000
SUMMARY: Back To The Future – Washbourn Gardens
DESCRIPTION: Gold coin donation Back to the Future (1985) PG 116mins : Join
  Marty McFly on a thrilling time-travel adventure in “Back to the Future.” 
 When Marty accidentally gets sent back to 1955 in a DeLorean time machine i
 nvented by his eccentric friend\, Doc Brown\, he must navigate the past to 
 ensure his parents fall in […]
X-ALT-DESC;FMTTYPE=text/html: <div>Gold coin donation</div><div></div><div>
 </div><div class="xdj266r x11i5rnm xat24cr x1mh8g0r x1vvkbs"><strong>Back t
 o the Future (1985) PG 116mins : Join Marty McFly on a thrilling time-trave
 l adventure in “Back to the Future.” When Marty accidentally gets sent back
  to 1955 in a DeLorean time machine invented by his eccentric friend\, Doc 
 Brown\, he must navigate the past to ensure his parents fall in love and se
 cure his own existence. Directed by Robert Zemeckis and starring Michael J.
  Fox and Christopher Lloyd\, this iconic film blends science fiction\, come
 dy\, and adventure. Its innovative special effects\, memorable soundtrack\,
  and timeless story have made it a beloved classic that continues to captiv
 ate audiences.</strong></div><div></div><div></div><div class="x11i5rnm xat
 24cr x1mh8g0r x1vvkbs xtlvy1s">Each year Summer Movies al Fresco provides a
  great collection of movies screened in the beautiful parks of Te Tau Ihu O
  Waka a Maui (Top of the South). Load up the couch\, gather a group\, a del
 icious picnic (BYO ok) and join us from 7:30pm to play giant board games or
  discuss the meaning of life under the regions’ glorious summer sunsets. Wr
 ap up warm and bring a torch to light your way home. If it looks like rain\
 , text “Is it on?” to 022-406-1665 after 7.30pm.</div>
CATEGORIES:Other (Richmond)
ORGANIZER;CN="sanitimarketing":MAILTO:marketing@saniti.co.nz
URL;VALUE=URI:https://saniti.co.nz/events/event/back-to-the-future-1985-was
 hbourne-gardens/
ATTACH;FMTTYPE=image/png:https://saniti.co.nz/wp-content/uploads/summer-movies.png
END:VEVENT
BEGIN:VTIMEZONE
TZID:Pacific/Auckland
BEGIN:DAYLIGHT
TZOFFSETFROM:+1200
TZOFFSETTO:+1300
DTSTART:20240928T140000
TZNAME:NZDT
END:DAYLIGHT
END:VTIMEZONE
END:VCALENDAR
