BEGIN:VCALENDAR
VERSION:2.0
PRODID:-//SANITI//NONSGML Events//EN
CALSCALE:GREGORIAN
X-ORIGINAL-URL:https://saniti.co.nz/events/event/
X-WR-CALDESC:SANITI - Events
BEGIN:VEVENT
UID:20260119T2154Z-1768859677.9536-EO-4321-1@139.180.178.34
STATUS:CONFIRMED
DTSTAMP:20260424T005042Z
CREATED:20260118T195337Z
LAST-MODIFIED:20260118T200111Z
DTSTART;TZID=Pacific/Auckland:20260517T130000
DTEND;TZID=Pacific/Auckland:20260517T160000
SUMMARY: Blessing of the Fleet
DESCRIPTION: The Blessing of the Fleet honours our sea-going whanau\, past 
 and present. Friday 8th May: Fireworks Display (Tahunanui Beach)Saturday 9t
 h May: Blessing of the Fleet Community Day (Seafarers Memorial Pier). The B
 lessing starts at 1.00pm. Witness the Vessel Parade\, the impressive Port N
 elson Tugs display\, and the fascinating Fish filleting and demonstrations 
 by Talleys. Enjoy […]
X-ALT-DESC;FMTTYPE=text/html: <div class="xdj266r x14z9mp xat24cr x1lziwak 
 x1vvkbs">The Blessing of the Fleet honours our sea-going whanau\, past and 
 present.</div><div></div><div class="x14z9mp xat24cr x1lziwak x1vvkbs xtlvy
 1s">Friday 8th May: Fireworks Display (Tahunanui Beach)<br class="html-br" 
 />Saturday 9th May: Blessing of the Fleet Community Day (Seafarers Memorial
  Pier). The Blessing starts at 1.00pm.</div><div></div><div class="x14z9mp 
 xat24cr x1lziwak x1vvkbs xtlvy1s">Witness the Vessel Parade\, the impressiv
 e Port Nelson Tugs display\, and the fascinating Fish filleting and demonst
 rations by Talleys.</div><div></div><div class="x14z9mp xat24cr x1lziwak x1
 vvkbs xtlvy1s">Enjoy some mouth-watering seafood and fish n' chips while ex
 periencing the festivities at the Seafarers Memorial on Wakefield Quay.</di
 v><div class="x14z9mp xat24cr x1lziwak x1vvkbs xtlvy1s">More info coming so
 on!</div>
CATEGORIES:Other (Nelson)
LOCATION:Seafares Memorial
GEO:-41.265687;173.273830
ORGANIZER;CN="sanitimarketing":MAILTO:marketing@saniti.co.nz
URL;VALUE=URI:https://saniti.co.nz/events/event/blessing-of-the-fleet/
ATTACH;FMTTYPE=image/jpeg:https://saniti.co.nz/wp-content/uploads/Blessing-of-the-fleet-2026-festival.jpg
END:VEVENT
BEGIN:VTIMEZONE
TZID:Pacific/Auckland
BEGIN:STANDARD
TZOFFSETFROM:+1300
TZOFFSETTO:+1200
DTSTART:20260404T140000
TZNAME:NZST
END:STANDARD
END:VTIMEZONE
END:VCALENDAR
