BEGIN:VCALENDAR
VERSION:2.0
PRODID:-//SANITI//NONSGML Events//EN
CALSCALE:GREGORIAN
X-ORIGINAL-URL:https://saniti.co.nz/events/event/
X-WR-CALDESC:SANITI - Events
BEGIN:VEVENT
UID:20250404T2058Z-1743800314.1592-EO-3309-1@149.28.176.14
STATUS:CONFIRMED
DTSTAMP:20260423T023848Z
CREATED:20250404T012516Z
LAST-MODIFIED:20250404T013748Z
DTSTART;TZID=Pacific/Auckland:20250426T110000
DTEND;TZID=Pacific/Auckland:20250426T123000
SUMMARY: Bottomless Fried Chicken
DESCRIPTION: Culture Burger Joint & Beer House presents Bottomless Fried Ch
 icken\, happening on the last Saturday of each month beginning 26/04/2025. 
 You’ll have 90 minutes from 11am to scoff all the fried chicken (with homem
 ade sauces) that your heart can handle\, plus bottomless bevs* from the Bot
 tomless menu. *Terms and conditions apply. Located at: Culture Burger […]
X-ALT-DESC;FMTTYPE=text/html: <p>Culture Burger Joint & Beer House presents
  Bottomless Fried Chicken\, happening on the last Saturday of each month be
 ginning 26/04/2025. You’ll have 90 minutes from 11am to scoff all the fried
  chicken (with homemade sauces) that your heart can handle\, plus bottomles
 s bevs* from the Bottomless menu. *Terms and conditions apply.</p><p>Locate
 d at: Culture Burger Joint\, Nelson</p><p>More info and ticket purchases <a
  href="https://www.facebook.com/share/16Mq6Ho3QD/">here</a></p>
CATEGORIES:Other (Nelson)
ORGANIZER;CN="sanitimarketing":MAILTO:marketing@saniti.co.nz
URL;VALUE=URI:https://saniti.co.nz/events/event/bottomless-fried-chicken/
END:VEVENT
BEGIN:VTIMEZONE
TZID:Pacific/Auckland
BEGIN:STANDARD
TZOFFSETFROM:+1300
TZOFFSETTO:+1200
DTSTART:20250405T140000
TZNAME:NZST
END:STANDARD
END:VTIMEZONE
END:VCALENDAR
