BEGIN:VCALENDAR
VERSION:2.0
PRODID:-//SANITI//NONSGML Events//EN
CALSCALE:GREGORIAN
X-ORIGINAL-URL:https://saniti.co.nz/events/event/
X-WR-CALDESC:SANITI - Events
BEGIN:VEVENT
UID:20260130T0528Z-1769750885.4885-EO-4443-1@139.180.178.34
STATUS:CONFIRMED
DTSTAMP:20260423T023848Z
CREATED:20260130T012518Z
LAST-MODIFIED:20260130T015032Z
DTSTART;TZID=Pacific/Auckland:20261023T090000
DTEND;TZID=Pacific/Auckland:20261025T150000
SUMMARY: Cachefest
DESCRIPTION: Geocaching in this region has a long history stretching back t
 o the very early days of the sport and continues today through a vibrant ge
 ocaching community of geocachers and hiders creating interesting and qualit
 y geocaching experiences. If you haven’t heard of geocaching\, check it out
  HERE Coming to an event is a great way to […]
X-ALT-DESC;FMTTYPE=text/html: <p>Geocaching in this region has a long histo
 ry stretching back to the very early days of the sport and continues today 
 through a vibrant geocaching community of geocachers and hiders creating in
 teresting and quality geocaching experiences.</p><p>If you haven't heard of
  geocaching\, check it out <a href="https://www.youtube.com/watch?v=vuFiLhh
 CNww">HERE</a><br />Coming to an event is a great way to learn about the ac
 tivity and make connections. Check out the programme page <a href="http://2
 026.geocache.nz/">HERE</a></p><p>Mega Event - the biggest and most importan
 t New Zealand geocaching event of 2026! And the first visit of the NZ GPS A
 dventures Maze Exhibit to the South Island!</p><p>Because this part of New 
 Zealand has a great deal to offer in the way of diverse scenery\, from gold
 en beaches\, turquoise bays and picturesque sounds to spectacular snow-capp
 ed mountains and crystal-clear lakes - with some of the clearest water you'
 ll find anywhere in the world! And the geocaching opportunities here are ju
 st as diverse and amazing</p><p>Join us for a weekend of fun geocaching act
 ivities\, including:</p><ul><li>Meet new friends from all around New Zealan
 d and the world</li><li>Seminars and discussion panels</li><li>Meet reviewe
 rs</li><li>Learn the secrets of puzzle solving\, gadget caches\, and more</
 li><li>Night caching adventures</li><li>Quiz night</li><li>Games and spot p
 rizes</li><li>NZ GPS Adventures Maze Exhibit</li><li>New geocaches</li><li>
 And much much more!</li></ul>
CATEGORIES:Other (Richmond)
LOCATION:Hope Recreation Hall
GEO:-41.352218;173.155039
ORGANIZER;CN="sanitimarketing":MAILTO:marketing@saniti.co.nz
URL;VALUE=URI:https://saniti.co.nz/events/event/cachefest/
ATTACH;FMTTYPE=image/png:https://saniti.co.nz/wp-content/uploads/Geo-Cachefest.png
END:VEVENT
BEGIN:VTIMEZONE
TZID:Pacific/Auckland
BEGIN:DAYLIGHT
TZOFFSETFROM:+1200
TZOFFSETTO:+1300
DTSTART:20260926T140000
TZNAME:NZDT
END:DAYLIGHT
END:VTIMEZONE
END:VCALENDAR
