BEGIN:VCALENDAR
VERSION:2.0
PRODID:-//SANITI//NONSGML Events//EN
CALSCALE:GREGORIAN
X-ORIGINAL-URL:https://saniti.co.nz/events/event/
X-WR-CALDESC:SANITI - Events
BEGIN:VEVENT
UID:20241026T0212Z-1729908743.9823-EO-2711-1@149.28.176.14
STATUS:CONFIRMED
DTSTAMP:20260420T094016Z
CREATED:20241022T235905Z
LAST-MODIFIED:20241022T235905Z
DTSTART;TZID=Pacific/Auckland:20241102T120000
DTEND;TZID=Pacific/Auckland:20241102T170000
SUMMARY: Dia de los Muertos
DESCRIPTION: more info here A day to celebrate Mexican culture. From 12 noo
 n at the Free House! FREE ENTRY!  
X-ALT-DESC;FMTTYPE=text/html: <p><a href="https://www.facebook.com/share/Te
 TpwjCLramdY36T/">more info here</a></p><p>A day to celebrate Mexican cultur
 e. From 12 noon at the Free House!</p><p>FREE ENTRY!</p><p> </p>
CATEGORIES:Other (Nelson)
ORGANIZER;CN="sanitimarketing":MAILTO:marketing@saniti.co.nz
URL;VALUE=URI:https://saniti.co.nz/events/event/dia-de-los-muertos/
ATTACH;FMTTYPE=image/jpeg:https://saniti.co.nz/wp-content/uploads/mexican-free-house.jpg
END:VEVENT
BEGIN:VTIMEZONE
TZID:Pacific/Auckland
BEGIN:DAYLIGHT
TZOFFSETFROM:+1200
TZOFFSETTO:+1300
DTSTART:20240928T140000
TZNAME:NZDT
END:DAYLIGHT
END:VTIMEZONE
END:VCALENDAR
