BEGIN:VCALENDAR
VERSION:2.0
PRODID:-//SANITI//NONSGML Events//EN
CALSCALE:GREGORIAN
X-ORIGINAL-URL:https://saniti.co.nz/events/event/
X-WR-CALDESC:SANITI - Events
BEGIN:VEVENT
UID:20260321T1123Z-1774092208.3668-EO-4604-1@139.180.178.34
STATUS:CONFIRMED
DTSTAMP:20260421T231502Z
CREATED:20260319T213902Z
LAST-MODIFIED:20260319T213902Z
DTSTART;TZID=Pacific/Auckland:20260325T100000
DTEND;TZID=Pacific/Auckland:20260325T120000
RRULE:FREQ=WEEKLY;INTERVAL=1;BYDAY=WE;UNTIL=20260623T220000Z
SUMMARY: Digital Drop-in
DESCRIPTION: Need some basic help with your devices? Drop in on Wednesday m
 ornings\, and our friendly staff will be happy to help. This session is for
  answering basic questions you may have about using your smartphone or othe
 r device. Please bring your device to the session. No bookings are required
 .
X-ALT-DESC;FMTTYPE=text/html: <div class="text-[24px] leading-[34px] pb-[30
 px]">Need some basic help with your devices?</div><div class="text-[18px] l
 eading-[26px]">Drop in on Wednesday mornings\, and our friendly staff will 
 be happy to help.<br />This session is for answering basic questions you ma
 y have about using your smartphone or other device.<br />Please bring your 
 device to the session.<br />No bookings are required.</div>
CATEGORIES:Other (Marlborough)
LOCATION:Marlborough Library
GEO:-41.512106;173.957979
ORGANIZER;CN="sanitimarketing":MAILTO:marketing@saniti.co.nz
URL;VALUE=URI:https://saniti.co.nz/events/event/digital-drop-in/
ATTACH;FMTTYPE=image/webp:https://saniti.co.nz/wp-content/uploads/digital-drop-in.webp
END:VEVENT
BEGIN:VTIMEZONE
TZID:Pacific/Auckland
BEGIN:DAYLIGHT
TZOFFSETFROM:+1200
TZOFFSETTO:+1300
DTSTART:20250927T140000
TZNAME:NZDT
END:DAYLIGHT
BEGIN:STANDARD
TZOFFSETFROM:+1300
TZOFFSETTO:+1200
DTSTART:20260404T140000
TZNAME:NZST
END:STANDARD
END:VTIMEZONE
END:VCALENDAR
