BEGIN:VCALENDAR
VERSION:2.0
PRODID:-//SANITI//NONSGML Events//EN
CALSCALE:GREGORIAN
X-ORIGINAL-URL:https://saniti.co.nz/events/event/
X-WR-CALDESC:SANITI - Events
BEGIN:VEVENT
UID:20250115T1201Z-1736942508.3219-EO-2975-1@149.28.176.14
STATUS:CONFIRMED
DTSTAMP:20260420T035215Z
CREATED:20250115T001107Z
LAST-MODIFIED:20250115T001107Z
DTSTART;VALUE=DATE:20250420
DTEND;VALUE=DATE:20250421
SUMMARY: Easter Sunday
X-ALT-DESC;FMTTYPE=text/html: 
CATEGORIES:Public Holiday
ORGANIZER;CN="sanitimarketing":MAILTO:marketing@saniti.co.nz
URL;VALUE=URI:https://saniti.co.nz/events/event/easter-sunday-2/
END:VEVENT
BEGIN:VTIMEZONE
TZID:Pacific/Auckland
BEGIN:STANDARD
TZOFFSETFROM:+1300
TZOFFSETTO:+1200
DTSTART:20250405T140000
TZNAME:NZST
END:STANDARD
END:VTIMEZONE
END:VCALENDAR
