BEGIN:VCALENDAR
VERSION:2.0
PRODID:-//SANITI//NONSGML Events//EN
CALSCALE:GREGORIAN
X-ORIGINAL-URL:https://saniti.co.nz/events/event/
X-WR-CALDESC:SANITI - Events
BEGIN:VEVENT
UID:20240828T0702Z-1724828568.9021-EO-2624-1@149.28.176.14
STATUS:CONFIRMED
DTSTAMP:20260422T003443Z
CREATED:20240826T042109Z
LAST-MODIFIED:20240904T205752Z
DTSTART;TZID=Pacific/Auckland:20240923T173000
DTEND;TZID=Pacific/Auckland:20240923T193000
SUMMARY: Construction Collective
DESCRIPTION: Learner Network Pilot – Construction and Infrastructure\, Carp
 entry\, Joinery and Civil Engineering students including apprentices are in
 vited to a BBQ at Richmond campus. We have some awesome speakers including 
 Scott & Jess Brown\, Lesley McQue\, Lou Fuller\, and Mahitahi Bayview Subdi
 vision! AND multiple giveaways! RSVP to projects@saniti.co.nz OR let your t
 utor know you wish to […]
X-ALT-DESC;FMTTYPE=text/html: <p>Learner Network Pilot – Construction and I
 nfrastructure\, Carpentry\, Joinery and Civil Engineering students includin
 g apprentices are invited to a BBQ at Richmond campus.</p><p>We have some a
 wesome speakers including Scott & Jess Brown\, Lesley McQue\, Lou Fuller\, 
 and Mahitahi Bayview Subdivision! AND multiple giveaways!</p><p>RSVP to <a 
 href="mailto:projects@saniti.co.nz">projects@saniti.co.nz</a></p><p>OR let 
 your tutor know you wish to attend :)</p>
CATEGORIES:Other (Richmond)
ORGANIZER;CN="sanitimarketing":MAILTO:marketing@saniti.co.nz
URL;VALUE=URI:https://saniti.co.nz/events/event/event-learner-network/
ATTACH;FMTTYPE=image/png:https://saniti.co.nz/wp-content/uploads/INVITATION-FOR-CC-02.png
END:VEVENT
BEGIN:VTIMEZONE
TZID:Pacific/Auckland
BEGIN:STANDARD
TZOFFSETFROM:+1200
TZOFFSETTO:+1200
DTSTART:20240406T140000
TZNAME:NZST
END:STANDARD
END:VTIMEZONE
END:VCALENDAR
