BEGIN:VCALENDAR
VERSION:2.0
PRODID:-//SANITI//NONSGML Events//EN
CALSCALE:GREGORIAN
X-ORIGINAL-URL:https://saniti.co.nz/events/event/
X-WR-CALDESC:SANITI - Events
BEGIN:VEVENT
UID:20260416T0718Z-1776323928.8055-EO-4670-1@139.180.178.34
STATUS:CONFIRMED
DTSTAMP:20260423T032335Z
CREATED:20260416T041632Z
LAST-MODIFIED:20260416T041632Z
DTSTART;TZID=Pacific/Auckland:20260501T180000
DTEND;TZID=Pacific/Auckland:20260501T210000
SUMMARY: Fashion edition – Hands up for Hospice
DESCRIPTION: Join us for Hands Up for Hospice – The Fashion Edition\, a fab
 ulous night of fashion\, food\, and community support. Be inspired by fashi
 on from two of Nelson’s top boutiques\, Stacey and Homelee\, alongside beau
 tiful pre-loved pieces curated from our Nelson Tasman Hospice Shops. Your t
 icket includes a complimentary drink on arrival\, plus access to […]
X-ALT-DESC;FMTTYPE=text/html: <p>Join us for Hands Up for Hospice – The Fas
 hion Edition\, a fabulous night of fashion\, food\, and community support. 
 Be inspired by fashion from two of Nelson’s top boutiques\, Stacey and Home
 lee\, alongside beautiful pre-loved pieces curated from our Nelson Tasman H
 ospice Shops. Your ticket includes a complimentary drink on arrival\, plus 
 access to a mini market showcasing amazing local businesses supporting Hosp
 ice this May. A cash bar will be available\, along with plenty of delicious
  food for purchase from Ziblings.</p><p>Doors open and 6pm show starts at 7
 pm. held at Annesbrook Events Centre - 40 Saxton Road\, Stoke\, Nelson</p><
 p>This event is proudly championed by Smart Business Centre.</p><p>This eve
 nt is a fundraiser for Nelson Tasman Hospice. Tickets <a href="https://even
 ts.humanitix.com/hands-up-for-hospice-the-fashion-edition">HERE</a> $55 + $
 1.95</p>
CATEGORIES:Other (Nelson)
ORGANIZER;CN="sanitimarketing":MAILTO:marketing@saniti.co.nz
URL;VALUE=URI:https://saniti.co.nz/events/event/fashion-edition-hands-up-fo
 r-hospice/
ATTACH;FMTTYPE=image/png:https://saniti.co.nz/wp-content/uploads/hands-for-hospie.png
END:VEVENT
BEGIN:VTIMEZONE
TZID:Pacific/Auckland
BEGIN:STANDARD
TZOFFSETFROM:+1300
TZOFFSETTO:+1200
DTSTART:20260404T140000
TZNAME:NZST
END:STANDARD
END:VTIMEZONE
END:VCALENDAR
