BEGIN:VCALENDAR
VERSION:2.0
PRODID:-//SANITI//NONSGML Events//EN
CALSCALE:GREGORIAN
X-ORIGINAL-URL:https://saniti.co.nz/events/event/
X-WR-CALDESC:SANITI - Events
BEGIN:VEVENT
UID:20250502T1015Z-1746180903.9843-EO-3494-1@149.28.176.14
STATUS:CONFIRMED
DTSTAMP:20260422T011451Z
CREATED:20250501T204026Z
LAST-MODIFIED:20250501T204026Z
DTSTART;TZID=Pacific/Auckland:20250514T120000
DTEND;TZID=Pacific/Auckland:20250514T130000
SUMMARY: FREE DONUTS
DESCRIPTION: On Wednesdays we wear pink. Enjoy a FREE donut this Wednesday 
 14 May at Marlborough Campus. We’re reminding our students that Te Puna Man
 aaki & SANITI are both safe spaces where everyone can feel safe\, seen\, an
 d supported. Together\, let’s stand up to bullying and promote aroha and in
 clusion. #PinkShirtDayNZ #KōreroMai
X-ALT-DESC;FMTTYPE=text/html: <p>On Wednesdays we wear pink. Enjoy a FREE d
 onut this Wednesday 14 May at Marlborough Campus. We’re reminding our stude
 nts that Te Puna Manaaki & SANITI are both safe spaces where everyone can f
 eel safe\, seen\, and supported. Together\, let’s stand up to bullying and 
 promote aroha and inclusion. <a href="https://www.facebook.com/hashtag/pink
 shirtdaynz?__eep__=6&__cft__%5b0%5d=AZXBiNqoa-ljPbVumY3r5yKe5phCEJeRjrwR46z
 zZBGanbtcTQfIUV01NfbPewVE8Z8FCITQC6pIjxNhP2YimZlOum6ftz8Q0iTV_GF09SfEqSoBPi
 oPtm4Ube3782y-RDlK8hPBk-rcr6h8I4AdrJrF&__tn__=*NK-R"><strong>#PinkShirtDayN
 Z</strong></a> <a href="https://www.facebook.com/hashtag/k%C5%8Dreromai?__e
 ep__=6&__cft__%5b0%5d=AZXBiNqoa-ljPbVumY3r5yKe5phCEJeRjrwR46zzZBGanbtcTQfIU
 V01NfbPewVE8Z8FCITQC6pIjxNhP2YimZlOum6ftz8Q0iTV_GF09SfEqSoBPioPtm4Ube3782y-
 RDlK8hPBk-rcr6h8I4AdrJrF&__tn__=*NK-R"><strong>#KōreroMai</strong></a></p>
CATEGORIES:Marlborough Event
ORGANIZER;CN="sanitimarketing":MAILTO:marketing@saniti.co.nz
URL;VALUE=URI:https://saniti.co.nz/events/event/free-donuts-4/
END:VEVENT
BEGIN:VTIMEZONE
TZID:Pacific/Auckland
BEGIN:STANDARD
TZOFFSETFROM:+1300
TZOFFSETTO:+1200
DTSTART:20250405T140000
TZNAME:NZST
END:STANDARD
END:VTIMEZONE
END:VCALENDAR
