BEGIN:VCALENDAR
VERSION:2.0
PRODID:-//SANITI//NONSGML Events//EN
CALSCALE:GREGORIAN
X-ORIGINAL-URL:https://saniti.co.nz/events/event/
X-WR-CALDESC:SANITI - Events
BEGIN:VEVENT
UID:20240127T0005Z-1706313947.7564-EO-1981-1@149.28.176.14
STATUS:CONFIRMED
DTSTAMP:20260424T001348Z
CREATED:20240126T004232Z
LAST-MODIFIED:20240126T004232Z
DTSTART;TZID=Pacific/Auckland:20240220T120000
DTEND;TZID=Pacific/Auckland:20240220T130000
SUMMARY: FREE Sundaes
DESCRIPTION: Day 2 of Orientation week\, enjoy an ice cream sundae with all
  of the toppings you could imagine! The team will be outside the Student Ce
 ntre (N Block) from midday. We’ll be running an online competition all week
 \, checkout our Facebook or Instagram (SANITINZ) for more info closed to th
 e time. Trust us\, you don’t […]
X-ALT-DESC;FMTTYPE=text/html: <p>Day 2 of Orientation week\, enjoy an ice c
 ream sundae with all of the toppings you could imagine!</p><p>The team will
  be outside the Student Centre (N Block) from midday.</p><p>We'll be runnin
 g an online competition all week\, checkout our Facebook or Instagram (SANI
 TINZ) for more info closed to the time. Trust us\, you don't want to miss t
 his.</p>
CATEGORIES:Nelson Event
LOCATION:Nelson Campus
GEO:-41.275452;173.288770
ORGANIZER;CN="sanitimarketing":MAILTO:marketing@saniti.co.nz
URL;VALUE=URI:https://saniti.co.nz/events/event/free-sundaes-2/
END:VEVENT
BEGIN:VTIMEZONE
TZID:Pacific/Auckland
BEGIN:DAYLIGHT
TZOFFSETFROM:+1200
TZOFFSETTO:+1300
DTSTART:20230923T140000
TZNAME:NZDT
END:DAYLIGHT
END:VTIMEZONE
END:VCALENDAR
