BEGIN:VCALENDAR
VERSION:2.0
PRODID:-//SANITI//NONSGML Events//EN
CALSCALE:GREGORIAN
X-ORIGINAL-URL:https://saniti.co.nz/events/event/
X-WR-CALDESC:SANITI - Events
BEGIN:VEVENT
UID:20260117T0713Z-1768634027.5502-EO-4300-1@139.180.178.34
STATUS:CONFIRMED
DTSTAMP:20260421T225919Z
CREATED:20260114T221147Z
LAST-MODIFIED:20260114T225855Z
DTSTART;TZID=Pacific/Auckland:20260328T140000
DTEND;TZID=Pacific/Auckland:20260328T220000
SUMMARY: Fruit Loop Music Fest
DESCRIPTION: About the Festival: Fruit Loop Festival is Marlborough’s juici
 est new summer gig! A full-blown celebration of music and dance\, kicking o
 ff under the sun and well into the night. Think open-air energy – blending 
 Marlborough’s summer magic with a full-scale music festival. An insane line
 -up of DJs and live performers with production to match! From […]
X-ALT-DESC;FMTTYPE=text/html: <p><strong>About the Festival:</strong><br />
 Fruit Loop Festival is Marlborough’s juiciest new summer gig! A full-blown 
 celebration of music and dance\, kicking off under the sun and well into th
 e night. Think open-air energy - blending Marlborough's summer magic with a
  full-scale music festival. An insane line-up of DJs and live performers wi
 th production to match! From the first drop to the final track\, it's where
  the beat hits harder and the drinks taste sweeter.</p><p>Fresh\, wild\, fi
 erce - Fruit Loop is the party Marlborough has been waiting for.<br />Be bo
 ld. Be chill. Be you. Fruit Loop is a safe\, inclusive space where everyone
  belongs. Bring your true self and join the party. <strong>R18 Event</stron
 g></p><p><strong>The Line-Up:</strong></p><p><strong>DICK JOHNSON:</strong>
  The heart of NZ’s electronic scene\, Dick Johnson is a true house music he
 avyweight. With remixes for global icons like Fatboy Slim and Claude VonStr
 oke\, plus Kiwi favourites L.A.B and Tiki Taane\, he’s spent over two decad
 es electrifying dancefloors worldwide. A relentless force behind the decks 
 - and music director for Synthony - Dick brings the fire every time.</p><p>
 <strong>SIN:</strong> Co-host of George FM Drive\, Sin is plugged into the 
 pulse of the dance scene and has quickly become a revered authority on all 
 things electronica. She’s torn up stages at Rhythm & Vines\, Homegrown\, Hi
 dden Valley\, and international festivals from Fiji to the UK. With support
 s for legends like Fatboy Slim\, Groove Armada\, and Netsky\, Sin brings hi
 gh-energy house\, techno\, and ravey curveballs to every set.</p><p><strong
 >KITA MEAN:</strong> Kita Mean is New Zealand’s award-winning drag supersta
 r\, known for her infectious charm\, razor-sharp wit\, and high-camp aesthe
 tic. With a career spanning 15+ years across stages and screens worldwide\,
  she’s wowed audiences from Aotearoa and Australia to London\, Canada\, the
  USA\, and beyond. Winner of the very first RuPaul’s Drag Race Down Under a
 nd co-owner of the iconic Caluzzi Cabaret\, Kita continues to dazzle with c
 olourful looks\, flawless mug\, and hilarious timing. Quirky\, kooky\, kits
 ch\, and quick - Kita Mean isn’t just a queen\, she’s an experience.</p><p>
 <strong>PETE GREEN:</strong> Originally from the UK\, Pete is part of the v
 inyl-digging collective Rare Specimens. His love for deep\, worldly electro
 nic sounds brings low-end warmth and an infectious energy to the dancefloor
 . Along the way\, he’s supported artists such as Crazy P\, Psychemagik\, Au
 dio Jack\, and Christopher Tubbs\, playing festivals and parties from Cream
 fields and Rhythm & Alps to Tempo Schmempo. Expect a set seasoned with Ital
 o\, ambient\, and deep house flavours\, dusted with disco\, and finished wi
 th a splash of techno.</p><p><strong>PLUS:</strong> You thought we were don
 e... also joining us on the decks\, LENNI VIBE and NOT MY SISTER. Lenni Vib
 e brings groove-driven house with hypnotic basslines\, and Not My Sister se
 ts are disco-house with plenty of funk.</p><p><strong>Kaupapa:</strong><br 
 />Fruit Loop is a safe\, inclusive space where everyone belongs. If you can
 ’t celebrate diversity\, respect others\, and bring good vibes\, this festi
 val isn’t for you. Harassment or discrimination of any kind will not be tol
 erated. Anyone behaving this way will be removed.</p><p><strong>Return Bus 
 Service:</strong><br />Getting to and from the festival is easy with our re
 turn bus service. Pick-up points will include Redwoodtown Woolworths\, Seym
 our Square\, and Countdown Springlands. Purchase a return bus ticket when y
 ou nab your ticket.<br />A full timetable and bus information will be annou
 nced closer to the event.<br />Parking is strictly limited at the festival.
  Drop off recommended.</p><p><strong>Refunds and Cancellations:</strong><br
  />Fruit Loop Festival is a rain or shine event. The festival will proceed 
 regardless of weather conditions\, except in circumstances where safety is 
 compromised or conditions make it impossible for the event to continue.<br 
 />No refunds will be given for changes to the programme\, line-up\, or adve
 rtised performers.</p><p><strong>Stay Connected:</strong><br />Follow us fo
 r line-up drops\, updates and key event information: <a href="https://www.i
 nstagram.com/fruitloopfestival/">@fruitloopfestival</a> on Instagram</p>
CATEGORIES:Other (Marlborough)
LOCATION:The Fancy Cow Restaurant &amp\; Bar
GEO:-41.481641;173.852905
ORGANIZER;CN="sanitimarketing":MAILTO:marketing@saniti.co.nz
URL;VALUE=URI:https://saniti.co.nz/events/event/fruit-loop-music-fest/
ATTACH;FMTTYPE=image/png:https://saniti.co.nz/wp-content/uploads/fruit-loop-fest-marlb.png
END:VEVENT
BEGIN:VTIMEZONE
TZID:Pacific/Auckland
BEGIN:DAYLIGHT
TZOFFSETFROM:+1200
TZOFFSETTO:+1300
DTSTART:20250927T140000
TZNAME:NZDT
END:DAYLIGHT
END:VTIMEZONE
END:VCALENDAR
