BEGIN:VCALENDAR
VERSION:2.0
PRODID:-//SANITI//NONSGML Events//EN
CALSCALE:GREGORIAN
X-ORIGINAL-URL:https://saniti.co.nz/events/event/
X-WR-CALDESC:SANITI - Events
BEGIN:VEVENT
UID:20251101T0148Z-1761961706.9401-EO-4011-1@139.180.178.34
STATUS:CONFIRMED
DTSTAMP:20260422T232629Z
CREATED:20251030T195944Z
LAST-MODIFIED:20251126T025536Z
DTSTART;TZID=Pacific/Auckland:20251212T123000
DTEND;TZID=Pacific/Auckland:20251212T133000
SUMMARY: Garden Party
DESCRIPTION: SANITI – Student Association invites graduates and their guest
 s attending the ceremony to the official after-function reception garden pa
 rty held at Trafalgar Centre for live music & photos. Morning Ceremony – Ge
 t your ceremony tickets here
X-ALT-DESC;FMTTYPE=text/html: <p>SANITI - Student Association invites gradu
 ates and their guests attending the ceremony to the official after-function
  reception garden party held at Trafalgar Centre for live music & photos.</
 p><p>Morning Ceremony - Get your ceremony tickets <a href="https://events.h
 umanitix.com/nmit-nelson-graduation-ceremony-morning"><strong>here</strong>
 </a></p>
CATEGORIES:Nelson Event
LOCATION:Trafalgar Centre
GEO:-41.269909;173.281403
ORGANIZER;CN="sanitimarketing":MAILTO:marketing@saniti.co.nz
URL;VALUE=URI:https://saniti.co.nz/events/event/garden-party-2/
ATTACH;FMTTYPE=image/png:https://saniti.co.nz/wp-content/uploads/after-funtion-graphics-01.png
END:VEVENT
BEGIN:VTIMEZONE
TZID:Pacific/Auckland
BEGIN:DAYLIGHT
TZOFFSETFROM:+1200
TZOFFSETTO:+1300
DTSTART:20250927T140000
TZNAME:NZDT
END:DAYLIGHT
END:VTIMEZONE
END:VCALENDAR
