BEGIN:VCALENDAR
VERSION:2.0
PRODID:-//SANITI//NONSGML Events//EN
CALSCALE:GREGORIAN
X-ORIGINAL-URL:https://saniti.co.nz/events/event/
X-WR-CALDESC:SANITI - Events
BEGIN:VEVENT
UID:20240305T0719Z-1709623185.2136-EO-2173-1@149.28.176.14
STATUS:CONFIRMED
DTSTAMP:20260421T171221Z
CREATED:20240303T211051Z
LAST-MODIFIED:20240717T004912Z
DTSTART;TZID=Pacific/Auckland:20240801T160000
DTEND;TZID=Pacific/Auckland:20240801T190000
SUMMARY: International Activity – Hotspots Tour
DESCRIPTION: Welcome new International students! It is great to have you in
  the sunshine capital! Come and join us on this Nelson Hotspots tour where 
 you will discover what awesome things the city has to offer. Bonus: Kiwi di
 nner provided also! *This is an evening activity so please make sure to not
 ify your host families about […]
X-ALT-DESC;FMTTYPE=text/html: <p>Welcome new International students!</p><p>
 It is great to have you in the sunshine capital! Come and join us on this N
 elson Hotspots tour where you will discover what awesome things the city ha
 s to offer.</p><p>Bonus: Kiwi dinner provided also!</p><p>*This is an eveni
 ng activity so please make sure to notify your host families about the acti
 vity and arrange safe transport home afterward.</p><p>BOOKINGS NOW OPEN! Co
 mplete the online booking form <a href="https://saniti.co.nz/events/booking
 -form/">here.</a></p><p>Any trouble come see Maisie at the SANITI office in
  the Student Centre\, Nelson Campus :)</p>
CATEGORIES:International Activity
ORGANIZER;CN="sanitimarketing":MAILTO:marketing@saniti.co.nz
URL;VALUE=URI:https://saniti.co.nz/events/event/international-activity-hots
 pots-tour-2/
ATTACH;FMTTYPE=image/jpeg:https://saniti.co.nz/wp-content/uploads/IMG_8033.jpg
END:VEVENT
BEGIN:VTIMEZONE
TZID:Pacific/Auckland
BEGIN:STANDARD
TZOFFSETFROM:+1300
TZOFFSETTO:+1200
DTSTART:20240406T140000
TZNAME:NZST
END:STANDARD
END:VTIMEZONE
END:VCALENDAR
