BEGIN:VCALENDAR
VERSION:2.0
PRODID:-//SANITI//NONSGML Events//EN
CALSCALE:GREGORIAN
X-ORIGINAL-URL:https://saniti.co.nz/events/event/
X-WR-CALDESC:SANITI - Events
BEGIN:VEVENT
UID:20250116T0541Z-1737006079.0924-EO-2951-1@149.28.176.14
STATUS:CONFIRMED
DTSTAMP:20260422T034556Z
CREATED:20250114T230330Z
LAST-MODIFIED:20250114T230446Z
DTSTART;TZID=Pacific/Auckland:20250124T163000
DTEND;TZID=Pacific/Auckland:20250124T203000
RDATE;TZID=Pacific/Auckland:20250328T163000
SUMMARY: Kirby Fridays
DESCRIPTION: Bring your mates and settle in for an evening of epic street f
 ood\, great drinks from our pop-up bar & live music! Free Entry! Located at
  Kirby Lane\, Nelson 105 Bridge Street\, Nelson\, New Zealand 1010
X-ALT-DESC;FMTTYPE=text/html: <p>Bring your mates and settle in for an even
 ing of epic street food\, great drinks from our pop-up bar & live music!</p
 ><p>Free Entry!</p><p>Located at Kirby Lane\, Nelson</p><p>105 Bridge Stree
 t\, Nelson\, New Zealand 1010</p>
CATEGORIES:Other (Nelson)
ORGANIZER;CN="sanitimarketing":MAILTO:marketing@saniti.co.nz
URL;VALUE=URI:https://saniti.co.nz/events/event/kirby-fridays/
END:VEVENT
BEGIN:VTIMEZONE
TZID:Pacific/Auckland
BEGIN:DAYLIGHT
TZOFFSETFROM:+1200
TZOFFSETTO:+1300
DTSTART:20240928T140000
TZNAME:NZDT
END:DAYLIGHT
END:VTIMEZONE
END:VCALENDAR
