BEGIN:VCALENDAR
VERSION:2.0
PRODID:-//SANITI//NONSGML Events//EN
CALSCALE:GREGORIAN
X-ORIGINAL-URL:https://saniti.co.nz/events/event/
X-WR-CALDESC:SANITI - Events
BEGIN:VEVENT
UID:20260228T1318Z-1772284705.5426-EO-4502-1@139.180.178.34
STATUS:CONFIRMED
DTSTAMP:20260424T204903Z
CREATED:20260226T202250Z
LAST-MODIFIED:20260226T202250Z
DTSTART;TZID=Pacific/Auckland:20260301T100000
DTEND;TZID=Pacific/Auckland:20260301T140000
RRULE:FREQ=WEEKLY;INTERVAL=1;BYDAY=SU;UNTIL=20260425T220000Z
SUMMARY: Mapua Wharf Sunday Market
DESCRIPTION: Mapua’s own summertime Sunday market featuring local creatives
  offering a range of products and services. Operating Dec – Apr this market
  brings the best of the top of the south to a single iconic destination. Fe
 aturing live music\, great food and curated stalls\, this is a fantastic re
 ason to pop to the Wharf for a […]
X-ALT-DESC;FMTTYPE=text/html: <p>Mapua's own summertime Sunday market featu
 ring local creatives offering a range of products and services. Operating D
 ec - Apr this market brings the best of the top of the south to a single ic
 onic destination.<br />Featuring live music\, great food and curated stalls
 \, this is a fantastic reason to pop to the Wharf for a Sunday of fun and r
 elaxation.</p>
CATEGORIES:Other (Richmond)
LOCATION:Mapua Wharf
GEO:-41.255716;173.100836
ORGANIZER;CN="sanitimarketing":MAILTO:marketing@saniti.co.nz
URL;VALUE=URI:https://saniti.co.nz/events/event/mapua-wharf-sunday-market/
ATTACH;FMTTYPE=image/jpeg:https://saniti.co.nz/wp-content/uploads/Motueka-Market.jpg
END:VEVENT
BEGIN:VTIMEZONE
TZID:Pacific/Auckland
BEGIN:DAYLIGHT
TZOFFSETFROM:+1200
TZOFFSETTO:+1300
DTSTART:20250927T140000
TZNAME:NZDT
END:DAYLIGHT
BEGIN:STANDARD
TZOFFSETFROM:+1300
TZOFFSETTO:+1200
DTSTART:20260404T140000
TZNAME:NZST
END:STANDARD
END:VTIMEZONE
END:VCALENDAR
