BEGIN:VCALENDAR
VERSION:2.0
PRODID:-//SANITI//NONSGML Events//EN
CALSCALE:GREGORIAN
X-ORIGINAL-URL:https://saniti.co.nz/events/event/
X-WR-CALDESC:SANITI - Events
BEGIN:VEVENT
UID:20250116T0054Z-1736988895.7611-EO-3006-1@149.28.176.14
STATUS:CONFIRMED
DTSTAMP:20260423T132645Z
CREATED:20250115T004320Z
LAST-MODIFIED:20250225T204556Z
DTSTART;TZID=Pacific/Auckland:20250220T113000
DTEND;TZID=Pacific/Auckland:20250220T123000
SUMMARY: ORI’ 25 – Free Burgers!
DESCRIPTION: !! O WEEK 2025 !! 11:30AM Under the Gingko Tree :)
X-ALT-DESC;FMTTYPE=text/html: <p>!! O WEEK 2025 !!</p><p>11:30AM Under the 
 Gingko Tree :)</p>
CATEGORIES:Other (Marlborough)
LOCATION:Marlborough Campus
GEO:-41.503789;173.968120
ORGANIZER;CN="sanitimarketing":MAILTO:marketing@saniti.co.nz
URL;VALUE=URI:https://saniti.co.nz/events/event/marlborough-event-6/
END:VEVENT
BEGIN:VTIMEZONE
TZID:Pacific/Auckland
BEGIN:DAYLIGHT
TZOFFSETFROM:+1200
TZOFFSETTO:+1300
DTSTART:20240928T140000
TZNAME:NZDT
END:DAYLIGHT
END:VTIMEZONE
END:VCALENDAR
