BEGIN:VCALENDAR
VERSION:2.0
PRODID:-//SANITI//NONSGML Events//EN
CALSCALE:GREGORIAN
X-ORIGINAL-URL:https://saniti.co.nz/events/event/
X-WR-CALDESC:SANITI - Events
BEGIN:VEVENT
UID:20250212T0152Z-1739325126.2328-EO-3081-1@149.28.176.14
STATUS:CONFIRMED
DTSTAMP:20260425T013140Z
CREATED:20250212T005553Z
LAST-MODIFIED:20250303T014252Z
DTSTART;TZID=Pacific/Auckland:20250312T120000
DTEND;TZID=Pacific/Auckland:20250312T130000
SUMMARY: Marlborough Prog Rep Meeting
DESCRIPTION: The first Prog Rep meeting for the year! As always\, there is 
 free kai for reps\, see you there! Meeting location: Student Hub\, J Block\
 , Room 7
X-ALT-DESC;FMTTYPE=text/html: <p>The first Prog Rep meeting for the year!</
 p><p>As always\, there is free kai for reps\, see you there!</p><p>Meeting 
 location: Student Hub\, J Block\, Room 7</p>
CATEGORIES:Prog Rep Meeting
LOCATION:Marlborough Campus
GEO:-41.503789;173.968120
ORGANIZER;CN="sanitimarketing":MAILTO:marketing@saniti.co.nz
URL;VALUE=URI:https://saniti.co.nz/events/event/marlborough-prog-rep-meetin
 g-3/
END:VEVENT
BEGIN:VTIMEZONE
TZID:Pacific/Auckland
BEGIN:DAYLIGHT
TZOFFSETFROM:+1200
TZOFFSETTO:+1300
DTSTART:20240928T140000
TZNAME:NZDT
END:DAYLIGHT
END:VTIMEZONE
END:VCALENDAR
