BEGIN:VCALENDAR
VERSION:2.0
PRODID:-//SANITI//NONSGML Events//EN
CALSCALE:GREGORIAN
X-ORIGINAL-URL:https://saniti.co.nz/events/event/
X-WR-CALDESC:SANITI - Events
BEGIN:VEVENT
UID:20240202T0520Z-1706851207.7321-EO-2096-1@149.28.176.14
STATUS:CONFIRMED
DTSTAMP:20260426T120414Z
CREATED:20240202T003503Z
LAST-MODIFIED:20240202T003503Z
DTSTART;TZID=Pacific/Auckland:20240509T110000
DTEND;TZID=Pacific/Auckland:20240509T120000
SUMMARY: Marlborough Scholarship Ceremony
DESCRIPTION: Location: Wine Centre\, Budge St Details from NMIT to follow
X-ALT-DESC;FMTTYPE=text/html: <p>Location: Wine Centre\, Budge St</p><p>Det
 ails from NMIT to follow</p>
CATEGORIES:Other (Marlborough)
ORGANIZER;CN="sanitimarketing":MAILTO:marketing@saniti.co.nz
URL;VALUE=URI:https://saniti.co.nz/events/event/marlborough-scholarship-cer
 emony/
END:VEVENT
BEGIN:VTIMEZONE
TZID:Pacific/Auckland
BEGIN:STANDARD
TZOFFSETFROM:+1300
TZOFFSETTO:+1200
DTSTART:20240406T140000
TZNAME:NZST
END:STANDARD
END:VTIMEZONE
END:VCALENDAR
