BEGIN:VCALENDAR
VERSION:2.0
PRODID:-//SANITI//NONSGML Events//EN
CALSCALE:GREGORIAN
X-ORIGINAL-URL:https://saniti.co.nz/events/event/
X-WR-CALDESC:SANITI - Events
BEGIN:VEVENT
UID:20260117T1114Z-1768648462.5563-EO-4298-1@139.180.178.34
STATUS:CONFIRMED
DTSTAMP:20260420T040849Z
CREATED:20260114T220627Z
LAST-MODIFIED:20260226T215950Z
DTSTART;TZID=Pacific/Auckland:20260329T103000
DTEND;TZID=Pacific/Auckland:20260329T140000
SUMMARY: More FM Beach Day
DESCRIPTION: Due to recent flooding at the Whites Bay campground and some o
 ngoing wastewater system issues\, the site is currently running at reduced 
 capacity. With a big crowd expected\, we’re unable to safely host our More 
 FM Beach Day 2026 event on Sunday\, 15 February. We are working with Doc on
  a new date\, which at […]
X-ALT-DESC;FMTTYPE=text/html: <p>Due to recent flooding at the Whites Bay c
 ampground and some ongoing wastewater system issues\, the site is currently
  running at reduced capacity. With a big crowd expected\, we’re unable to s
 afely host our More FM Beach Day 2026 event on Sunday\, 15 February. We are
  working with Doc on a new date\, which at this stage is <strong>March 29th
 </strong> so please pencil that one in!</p><p>Get ready for sun\, sand\, an
 d smiles at the annual 'Ray White Complete Property Management' More FM Bea
 ch Day!</p><p>Join us on Sunday\, 29 March for the postponed event\, for a 
 jam-packed day of family-friendly fun. Whether you're building sandcastles\
 , joining in the tug-of-war\, or digging for prizes\, there's something for
  everyone to enjoy.</p><p>It’s always a highlight of the summer calendar - 
 don’t miss out! Stay tuned to More FM for all the latest updates and event 
 details</p>
CATEGORIES:Other (Marlborough)
LOCATION:Whites Bay
GEO:-36.852095;174.763180
ORGANIZER;CN="sanitimarketing":MAILTO:marketing@saniti.co.nz
URL;VALUE=URI:https://saniti.co.nz/events/event/more-fm-beach-day-2/
ATTACH;FMTTYPE=image/png:https://saniti.co.nz/wp-content/uploads/Beach-day-Marlborough.png
END:VEVENT
BEGIN:VTIMEZONE
TZID:Pacific/Auckland
BEGIN:DAYLIGHT
TZOFFSETFROM:+1200
TZOFFSETTO:+1300
DTSTART:20250927T140000
TZNAME:NZDT
END:DAYLIGHT
END:VTIMEZONE
END:VCALENDAR
