BEGIN:VCALENDAR
VERSION:2.0
PRODID:-//SANITI//NONSGML Events//EN
CALSCALE:GREGORIAN
X-ORIGINAL-URL:https://saniti.co.nz/events/event/
X-WR-CALDESC:SANITI - Events
BEGIN:VEVENT
UID:20231201T0409Z-1701403788.7263-EO-1891-1@149.28.176.14
STATUS:CONFIRMED
DTSTAMP:20260422T125435Z
CREATED:20231129T233859Z
LAST-MODIFIED:20240126T005418Z
DTSTART;TZID=Pacific/Auckland:20240219T100000
DTEND;TZID=Pacific/Auckland:20240219T103000
SUMMARY: Nelson Mihi Whakatau
DESCRIPTION: Held on the grass area outside the student centre (in the Kōwh
 ai lounge if raining).   From NMIT: Welcome new learners and celebrate the 
 beginning of their learning journey. Please note: The mihi whakatau is for 
 new ākonga only. All bags and food etc. are to be left in the classroom Cel
 l phones must be turned […]
X-ALT-DESC;FMTTYPE=text/html: <p>Held on the grass area outside the student
  centre (in the Kōwhai lounge if raining).</p><p> </p><p>From NMIT:</p><p>W
 elcome new learners and celebrate the beginning of their learning journey.<
 /p><p><em>Please note: The mihi whakatau is for new ākonga only.</em></p><u
 l><li>All bags and food etc. are to be left in the classroom</li><li>Cell p
 hones must be turned off</li><li><u>Students</u> are not able to take photo
 graphs or videos during the Mihi Whakatau</li></ul><p>Kai Whakanoa provided
  by Ake Ake afterwards</p>
CATEGORIES:Other (Nelson)
LOCATION:Nelson Campus
GEO:-41.275452;173.288770
ORGANIZER;CN="sanitimarketing":MAILTO:marketing@saniti.co.nz
URL;VALUE=URI:https://saniti.co.nz/events/event/nelson-campus-whakatau/
END:VEVENT
BEGIN:VTIMEZONE
TZID:Pacific/Auckland
BEGIN:DAYLIGHT
TZOFFSETFROM:+1200
TZOFFSETTO:+1300
DTSTART:20230923T140000
TZNAME:NZDT
END:DAYLIGHT
END:VTIMEZONE
END:VCALENDAR
