BEGIN:VCALENDAR
VERSION:2.0
PRODID:-//SANITI//NONSGML Events//EN
CALSCALE:GREGORIAN
X-ORIGINAL-URL:https://saniti.co.nz/events/event/
X-WR-CALDESC:SANITI - Events
BEGIN:VEVENT
UID:20240202T0032Z-1706833945.7786-EO-2044-1@149.28.176.14
STATUS:CONFIRMED
DTSTAMP:20260422T232040Z
CREATED:20240129T222151Z
LAST-MODIFIED:20241031T014432Z
DTSTART;TZID=Pacific/Auckland:20241105T120000
DTEND;TZID=Pacific/Auckland:20241105T130000
SUMMARY: FREE GREEN CURRY
DESCRIPTION: Grab yourself some delicious green curry with chicken or tofu!
  12PM\, Student Centre! :)    
X-ALT-DESC;FMTTYPE=text/html: <p>Grab yourself some delicious green curry w
 ith chicken or tofu!</p><p>12PM\, Student Centre! :)</p><p> </p><p> </p>
CATEGORIES:Nelson Event,Other (Nelson)
LOCATION:Nelson Campus
GEO:-41.275452;173.288770
ORGANIZER;CN="sanitimarketing":MAILTO:marketing@saniti.co.nz
URL;VALUE=URI:https://saniti.co.nz/events/event/nelson-event-12/
ATTACH;FMTTYPE=image/png:https://saniti.co.nz/wp-content/uploads/Thai-Green-Curry-Square-01.png
END:VEVENT
BEGIN:VTIMEZONE
TZID:Pacific/Auckland
BEGIN:DAYLIGHT
TZOFFSETFROM:+1200
TZOFFSETTO:+1300
DTSTART:20240928T140000
TZNAME:NZDT
END:DAYLIGHT
END:VTIMEZONE
END:VCALENDAR
