BEGIN:VCALENDAR
VERSION:2.0
PRODID:-//SANITI//NONSGML Events//EN
CALSCALE:GREGORIAN
X-ORIGINAL-URL:https://saniti.co.nz/events/event/
X-WR-CALDESC:SANITI - Events
BEGIN:VEVENT
UID:20250720T0123Z-1752974596.8714-EO-3693-1@149.28.176.14
STATUS:CONFIRMED
DTSTAMP:20260424T204502Z
CREATED:20250717T215613Z
LAST-MODIFIED:20250717T215746Z
DTSTART;TZID=Pacific/Auckland:20250719T080000
DTEND;TZID=Pacific/Auckland:20250719T130000
RRULE:FREQ=WEEKLY;INTERVAL=1;BYDAY=SA;UNTIL=20261211T190000Z
SUMMARY: Nelson Market
DESCRIPTION: The Nelson Market is recognized throughout New Zealand and the
  world for its array of fine produce and quality artistry. Every Saturday m
 orning for more than 40 years\, Nelson Market owner Nita Knight has welcome
 d visitors to discover a unique creative showcase in the heart of the centr
 al city. Shop for fresh produce\, gourmet foods\, […]
X-ALT-DESC;FMTTYPE=text/html: <p>The Nelson Market is recognized throughout
  New Zealand and the world for its array of fine produce and quality artist
 ry.</p><p>Every Saturday morning for more than 40 years\, Nelson Market own
 er Nita Knight has welcomed visitors to discover a unique creative showcase
  in the heart of the central city. Shop for fresh produce\, gourmet foods\,
  and share brunch under the warm Nelson sun while taking the opportunity to
  see and purchase the huge array of creative work produced by the region's 
 talented artisans including ceramics\, woodwork\, clothing\, metalwork\, ho
 mewares\, toiletries\, toys\, jewellery & accessories\, furniture and so mu
 ch more.</p><p>Take a piece of Nelson home with you.</p>
CATEGORIES:Other (Nelson)
LOCATION:Montgomery Square
GEO:-36.852095;174.763180
ORGANIZER;CN="sanitimarketing":MAILTO:marketing@saniti.co.nz
URL;VALUE=URI:https://saniti.co.nz/events/event/nelson-market/
ATTACH;FMTTYPE=image/jpeg:https://saniti.co.nz/wp-content/uploads/cover-nelson-saturday-market.jpg
END:VEVENT
BEGIN:VTIMEZONE
TZID:Pacific/Auckland
BEGIN:STANDARD
TZOFFSETFROM:+1300
TZOFFSETTO:+1200
DTSTART:20250405T140000
TZNAME:NZST
END:STANDARD
BEGIN:DAYLIGHT
TZOFFSETFROM:+1200
TZOFFSETTO:+1300
DTSTART:20250927T140000
TZNAME:NZDT
END:DAYLIGHT
BEGIN:STANDARD
TZOFFSETFROM:+1300
TZOFFSETTO:+1200
DTSTART:20260404T140000
TZNAME:NZST
END:STANDARD
BEGIN:DAYLIGHT
TZOFFSETFROM:+1200
TZOFFSETTO:+1300
DTSTART:20260926T140000
TZNAME:NZDT
END:DAYLIGHT
END:VTIMEZONE
END:VCALENDAR
