BEGIN:VCALENDAR
VERSION:2.0
PRODID:-//SANITI//NONSGML Events//EN
CALSCALE:GREGORIAN
X-ORIGINAL-URL:https://saniti.co.nz/events/event/
X-WR-CALDESC:SANITI - Events
BEGIN:VEVENT
UID:20250212T0151Z-1739325117.1335-EO-3075-1@149.28.176.14
STATUS:CONFIRMED
DTSTAMP:20260422T191403Z
CREATED:20250212T003936Z
LAST-MODIFIED:20250306T220050Z
DTSTART;TZID=Pacific/Auckland:20250313T120000
DTEND;TZID=Pacific/Auckland:20250313T130000
SUMMARY: Nelson Prog Rep Meeting
DESCRIPTION: The first Prog Rep meeting for the year! As always\, there is 
 free kai for reps\, see you there! Meeting location: Student Centre\, Kōwha
 i Lounge
X-ALT-DESC;FMTTYPE=text/html: <p>The first Prog Rep meeting for the year!</
 p><p>As always\, there is free kai for reps\, see you there!</p><p>Meeting 
 location: Student Centre\, Kōwhai Lounge</p>
CATEGORIES:Prog Rep Meeting
LOCATION:Nelson Campus
GEO:-41.275452;173.288770
ORGANIZER;CN="sanitimarketing":MAILTO:marketing@saniti.co.nz
URL;VALUE=URI:https://saniti.co.nz/events/event/nelson-prog-rep-meeting-6/
END:VEVENT
BEGIN:VTIMEZONE
TZID:Pacific/Auckland
BEGIN:DAYLIGHT
TZOFFSETFROM:+1200
TZOFFSETTO:+1300
DTSTART:20240928T140000
TZNAME:NZDT
END:DAYLIGHT
END:VTIMEZONE
END:VCALENDAR
