BEGIN:VCALENDAR
VERSION:2.0
PRODID:-//SANITI//NONSGML Events//EN
CALSCALE:GREGORIAN
X-ORIGINAL-URL:https://saniti.co.nz/events/event/
X-WR-CALDESC:SANITI - Events
BEGIN:VEVENT
UID:20250223T1936Z-1740339396.8946-EO-3118-1@149.28.176.14
STATUS:CONFIRMED
DTSTAMP:20260420T161007Z
CREATED:20250212T023243Z
LAST-MODIFIED:20250225T231658Z
DTSTART;TZID=Pacific/Auckland:20251015T120000
DTEND;TZID=Pacific/Auckland:20251015T130000
SUMMARY: Nelson Prog Rep Meeting
DESCRIPTION: Meeting location: Student Centre\, Kōwhai Lounge
X-ALT-DESC;FMTTYPE=text/html: <p>Meeting location: Student Centre\, Kōwhai 
 Lounge</p>
CATEGORIES:Prog Rep Meeting
ORGANIZER;CN="sanitimarketing":MAILTO:marketing@saniti.co.nz
URL;VALUE=URI:https://saniti.co.nz/events/event/nelson-prog-rep-meeting-9/
END:VEVENT
BEGIN:VTIMEZONE
TZID:Pacific/Auckland
BEGIN:DAYLIGHT
TZOFFSETFROM:+1200
TZOFFSETTO:+1300
DTSTART:20250927T140000
TZNAME:NZDT
END:DAYLIGHT
END:VTIMEZONE
END:VCALENDAR
