BEGIN:VCALENDAR
VERSION:2.0
PRODID:-//SANITI//NONSGML Events//EN
CALSCALE:GREGORIAN
X-ORIGINAL-URL:https://saniti.co.nz/events/event/
X-WR-CALDESC:SANITI - Events
BEGIN:VEVENT
UID:20260416T0716Z-1776323776.7593-EO-4657-1@139.180.178.34
STATUS:CONFIRMED
DTSTAMP:20260423T025403Z
CREATED:20260415T003333Z
LAST-MODIFIED:20260415T003333Z
DTSTART;TZID=Pacific/Auckland:20260616T130000
DTEND;TZID=Pacific/Auckland:20260616T150000
SUMMARY: NMIT Taster Week
DESCRIPTION: Experience what student life is all about with interactive wor
 kshops for anyone aged 15 and over – all are welcome. REGISTER HERE Wonderi
 ng what to study after you finish school? Or\, looking to upskill in your c
 urrent job or even change careers? Our two-hour taster workshops give you t
 he opportunity to undertake a fun\, hands-on […]
X-ALT-DESC;FMTTYPE=text/html: <p>Experience what student life is all about 
 with interactive workshops for anyone aged 15 and over – all are welcome.</
 p><p><a href="https://www.cognitoforms.com/NMIT1/TasterWeek1519June2026" ta
 rget="_blank" rel="noopener">REGISTER HERE</a></p><p>Wondering what to stud
 y after you finish school? Or\, looking to upskill in your current job or e
 ven change careers?</p><p>Our two-hour taster workshops give you the opport
 unity to undertake a fun\, hands-on activity\, talk to tutors\, and learn m
 ore about the programme on offer.</p><p>These workshops are tailored for in
 dividuals aged 15 and above. If you are younger than this\, please reach ou
 t to our Secondary Tertiary Pathways team at <a href="mailto:youth@nmit.ac.
 nz">youth@nmit.ac.nz</a></p>
CATEGORIES:Other (Richmond)
ORGANIZER;CN="sanitimarketing":MAILTO:marketing@saniti.co.nz
URL;VALUE=URI:https://saniti.co.nz/events/event/nmit-taster-week-3/
ATTACH;FMTTYPE=image/png:https://saniti.co.nz/wp-content/uploads/NMIT-TASTER-WEEK-26.png
END:VEVENT
BEGIN:VTIMEZONE
TZID:Pacific/Auckland
BEGIN:STANDARD
TZOFFSETFROM:+1300
TZOFFSETTO:+1200
DTSTART:20260404T140000
TZNAME:NZST
END:STANDARD
END:VTIMEZONE
END:VCALENDAR
