BEGIN:VCALENDAR
VERSION:2.0
PRODID:-//SANITI//NONSGML Events//EN
CALSCALE:GREGORIAN
X-ORIGINAL-URL:https://saniti.co.nz/events/event/
X-WR-CALDESC:SANITI - Events
BEGIN:VEVENT
UID:20250228T0225Z-1740709541.371-EO-3193-1@149.28.176.14
STATUS:CONFIRMED
DTSTAMP:20260420T023455Z
CREATED:20250226T214147Z
LAST-MODIFIED:20250605T002332Z
DTSTART;TZID=Pacific/Auckland:20250724T123000
DTEND;TZID=Pacific/Auckland:20250724T133000
SUMMARY: Rainbow Hui
DESCRIPTION: Nmit Rainbow hui is a relaxed get together with other Rainbow 
 ākonga from across the campus. Kai\, fun activities and an opportunity to c
 onnect. Follow Instagram page for updates:  ira_aniwaniwa
X-ALT-DESC;FMTTYPE=text/html: <p>Nmit <span class="markvtu6hqu7h" data-mark
 js="true" data-ogac="" data-ogab="" data-ogsc="" data-ogsb="">Rainbow</span
 > <span class="markzohosafuy" data-markjs="true" data-ogac="" data-ogab="" 
 data-ogsc="" data-ogsb="">hui</span> is a relaxed get together with other <
 span class="markvtu6hqu7h" data-markjs="true" data-ogac="" data-ogab="" dat
 a-ogsc="" data-ogsb="">Rainbow</span> ākonga from across the campus. Kai\, 
 fun activities and an opportunity to connect.</p><p>Follow Instagram page f
 or updates:  ira_aniwaniwa</p>
CATEGORIES:Other (Nelson)
ORGANIZER;CN="sanitimarketing":MAILTO:marketing@saniti.co.nz
URL;VALUE=URI:https://saniti.co.nz/events/event/rainbow-hui-10/
END:VEVENT
BEGIN:VTIMEZONE
TZID:Pacific/Auckland
BEGIN:STANDARD
TZOFFSETFROM:+1300
TZOFFSETTO:+1200
DTSTART:20250405T140000
TZNAME:NZST
END:STANDARD
END:VTIMEZONE
END:VCALENDAR
