BEGIN:VCALENDAR
VERSION:2.0
PRODID:-//SANITI//NONSGML Events//EN
CALSCALE:GREGORIAN
X-ORIGINAL-URL:https://saniti.co.nz/events/event/
X-WR-CALDESC:SANITI - Events
BEGIN:VEVENT
UID:20240223T0123Z-1708651383.9363-EO-2144-1@149.28.176.14
STATUS:CONFIRMED
DTSTAMP:20260422T130823Z
CREATED:20240221T034430Z
LAST-MODIFIED:20240221T034430Z
DTSTART;TZID=Pacific/Auckland:20240411T123000
DTEND;TZID=Pacific/Auckland:20240411T133000
SUMMARY: Rainbow Hui
DESCRIPTION: Nmit Rainbow hui is a relaxed get together with other Rainbow 
 ākonga from across the campus. Kai\, fun activities and an opportunity to c
 onnect. Location: K104
X-ALT-DESC;FMTTYPE=text/html: <p>Nmit Rainbow hui is a relaxed get together
  with other Rainbow ākonga from across the campus. Kai\, fun activities and
  an opportunity to connect.</p><p>Location: K104</p>
CATEGORIES:Other (Nelson)
ORGANIZER;CN="sanitimarketing":MAILTO:marketing@saniti.co.nz
URL;VALUE=URI:https://saniti.co.nz/events/event/rainbow-hui-2/
ATTACH;FMTTYPE=image/jpeg:https://saniti.co.nz/wp-content/uploads/Rainbow-Hui-Logo-e1774560878281.jpg
END:VEVENT
BEGIN:VTIMEZONE
TZID:Pacific/Auckland
BEGIN:STANDARD
TZOFFSETFROM:+1300
TZOFFSETTO:+1200
DTSTART:20240406T140000
TZNAME:NZST
END:STANDARD
END:VTIMEZONE
END:VCALENDAR
