BEGIN:VCALENDAR
VERSION:2.0
PRODID:-//SANITI//NONSGML Events//EN
CALSCALE:GREGORIAN
X-ORIGINAL-URL:https://saniti.co.nz/events/event/
X-WR-CALDESC:SANITI - Events
BEGIN:VEVENT
UID:20250116T0443Z-1737002626.1794-EO-3008-1@149.28.176.14
STATUS:CONFIRMED
DTSTAMP:20260426T133607Z
CREATED:20250115T004447Z
LAST-MODIFIED:20250225T204652Z
DTSTART;TZID=Pacific/Auckland:20250225T120000
DTEND;TZID=Pacific/Auckland:20250225T130000
SUMMARY: ORI’ 25 – Free Nachos!
DESCRIPTION: !! O WEEK 2025 !! 12PM Outside the Student Centre :)
X-ALT-DESC;FMTTYPE=text/html: <p>!! O WEEK 2025 !!</p><p>12PM Outside the S
 tudent Centre :)</p>
CATEGORIES:Richmond Event
LOCATION:Richmond Campus
GEO:-41.331322;173.176804
ORGANIZER;CN="sanitimarketing":MAILTO:marketing@saniti.co.nz
URL;VALUE=URI:https://saniti.co.nz/events/event/richmond-event-6/
END:VEVENT
BEGIN:VTIMEZONE
TZID:Pacific/Auckland
BEGIN:DAYLIGHT
TZOFFSETFROM:+1200
TZOFFSETTO:+1300
DTSTART:20240928T140000
TZNAME:NZDT
END:DAYLIGHT
END:VTIMEZONE
END:VCALENDAR
