BEGIN:VCALENDAR
VERSION:2.0
PRODID:-//SANITI//NONSGML Events//EN
CALSCALE:GREGORIAN
X-ORIGINAL-URL:https://saniti.co.nz/events/event/
X-WR-CALDESC:SANITI - Events
BEGIN:VEVENT
UID:20250124T0540Z-1737697249.8881-EO-3021-1@149.28.176.14
STATUS:CONFIRMED
DTSTAMP:20260422T055847Z
CREATED:20250122T024932Z
LAST-MODIFIED:20250318T224752Z
DTSTART;TZID=Pacific/Auckland:20250326T120000
DTEND;TZID=Pacific/Auckland:20250326T130000
SUMMARY: FREE BURGERS
DESCRIPTION: its a crowd favourite!.. grab yourself a FREE BURGER!! 12PM\, 
 Student Centre
X-ALT-DESC;FMTTYPE=text/html: <p>its a crowd favourite!.. grab yourself a F
 REE BURGER!!</p><p>12PM\, Student Centre <3</p>
CATEGORIES:Other (Richmond),Richmond Event
ORGANIZER;CN="sanitimarketing":MAILTO:marketing@saniti.co.nz
URL;VALUE=URI:https://saniti.co.nz/events/event/richmond-event-7/
END:VEVENT
BEGIN:VTIMEZONE
TZID:Pacific/Auckland
BEGIN:DAYLIGHT
TZOFFSETFROM:+1200
TZOFFSETTO:+1300
DTSTART:20240928T140000
TZNAME:NZDT
END:DAYLIGHT
END:VTIMEZONE
END:VCALENDAR
