BEGIN:VCALENDAR
VERSION:2.0
PRODID:-//SANITI//NONSGML Events//EN
CALSCALE:GREGORIAN
X-ORIGINAL-URL:https://saniti.co.nz/events/event/
X-WR-CALDESC:SANITI - Events
BEGIN:VEVENT
UID:20260227T2021Z-1772223703.1278-EO-4522-1@139.180.178.34
STATUS:CONFIRMED
DTSTAMP:20260423T024655Z
CREATED:20260226T213122Z
LAST-MODIFIED:20260226T213122Z
DTSTART;TZID=Pacific/Auckland:20261121T100000
DTEND;TZID=Pacific/Auckland:20261121T140000
SUMMARY: Richmond Retro
DESCRIPTION: Richmond Retro 2026! Your yearly destination in the Tasman reg
 ion for all things pop culture! Stalls galore filled with action figures\, 
 gaming\, collectables\, something for everyone! Giveaways for kids at the d
 oor\, come and get your free trading cards! We will have our gaming station
  set up\, ready to challenge takers on the retro consoles! […]
X-ALT-DESC;FMTTYPE=text/html: <p>Richmond Retro 2026! Your yearly destinati
 on in the Tasman region for all things pop culture!</p><p>Stalls galore fil
 led with action figures\, gaming\, collectables\, something for everyone!</
 p><p>Giveaways for kids at the door\, come and get your free trading cards!
 </p><p>We will have our gaming station set up\, ready to challenge takers o
 n the retro consoles!</p><p>21st November at Richmond School Hall. <strong>
 Gold coin entry</strong></p>
CATEGORIES:Other (Richmond)
LOCATION:Richmond Primary School
GEO:-41.339466;173.181992
ORGANIZER;CN="sanitimarketing":MAILTO:marketing@saniti.co.nz
URL;VALUE=URI:https://saniti.co.nz/events/event/richmond-retro-2/
ATTACH;FMTTYPE=image/png:https://saniti.co.nz/wp-content/uploads/richmond-retro-1.png
END:VEVENT
BEGIN:VTIMEZONE
TZID:Pacific/Auckland
BEGIN:DAYLIGHT
TZOFFSETFROM:+1200
TZOFFSETTO:+1300
DTSTART:20260926T140000
TZNAME:NZDT
END:DAYLIGHT
END:VTIMEZONE
END:VCALENDAR
