BEGIN:VCALENDAR
VERSION:2.0
PRODID:-//SANITI//NONSGML Events//EN
CALSCALE:GREGORIAN
X-ORIGINAL-URL:https://saniti.co.nz/events/event/
X-WR-CALDESC:SANITI - Events
BEGIN:VEVENT
UID:20250116T1539Z-1737041996.8333-EO-2989-1@149.28.176.14
STATUS:CONFIRMED
DTSTAMP:20260420T012724Z
CREATED:20250115T002518Z
LAST-MODIFIED:20250818T212843Z
DTSTART;VALUE=DATE:20250825
DTEND;VALUE=DATE:20250826
SUMMARY: SANITI 23rd BDAY!!
DESCRIPTION: SANITI is turning 23 this year and we wanted to invite you to 
 our birthday party!! More information to come but we’re looking to have foo
 d\, games and prizes! Thank you for your support
X-ALT-DESC;FMTTYPE=text/html: <p>SANITI is turning 23 this year and we want
 ed to invite you to our birthday party!!</p><p>More information to come but
  we're looking to have food\, games and prizes!</p><p>Thank you for your su
 pport <3Nelson Campus\, 25th August 2025</p>
CATEGORIES:Nelson Event,Public Holiday
ORGANIZER;CN="sanitimarketing":MAILTO:marketing@saniti.co.nz
URL;VALUE=URI:https://saniti.co.nz/events/event/saniti-23rd-bday/
ATTACH;FMTTYPE=image/png:https://saniti.co.nz/wp-content/uploads/saniti23rd-birthday.png
END:VEVENT
BEGIN:VTIMEZONE
TZID:Pacific/Auckland
BEGIN:STANDARD
TZOFFSETFROM:+1300
TZOFFSETTO:+1200
DTSTART:20250405T140000
TZNAME:NZST
END:STANDARD
END:VTIMEZONE
END:VCALENDAR
