BEGIN:VCALENDAR
VERSION:2.0
PRODID:-//SANITI//NONSGML Events//EN
CALSCALE:GREGORIAN
X-ORIGINAL-URL:https://saniti.co.nz/events/event/
X-WR-CALDESC:SANITI - Events
BEGIN:VEVENT
UID:20260416T0718Z-1776323883.8181-EO-4674-1@139.180.178.34
STATUS:CONFIRMED
DTSTAMP:20260423T030509Z
CREATED:20260416T010628Z
LAST-MODIFIED:20260416T010628Z
DTSTART;TZID=Pacific/Auckland:20260430T110000
DTEND;TZID=Pacific/Auckland:20260430T140000
SUMMARY: SASH Open Day
DESCRIPTION: Join us for our OPEN DAY! 30 April 2026 – Sexual Assault Aware
 ness Month – 11AM – 2PM 144 Collingwood Street\, Nelson 7010 Free BBQ – Mee
 t our team – All welcome. Our staff will be available to answer any questio
 ns you may have about SASH and the support services we provide. www.sash.co
 .nz
X-ALT-DESC;FMTTYPE=text/html: <p>Join us for our OPEN DAY! 30 April 2026 - 
 Sexual Assault Awareness Month - 11AM - 2PM</p><p>144 Collingwood Street\, 
 Nelson 7010</p><p><strong>Free BBQ - Meet our team - All welcome.</strong><
 /p><p>Our staff will be available to answer any questions you may have abou
 t SASH and the support services we provide.</p><p><a href="https://sash.co.
 nz/">www.sash.co.nz</a></p>
CATEGORIES:Other (Nelson)
ORGANIZER;CN="sanitimarketing":MAILTO:marketing@saniti.co.nz
URL;VALUE=URI:https://saniti.co.nz/events/event/sash-open-day/
ATTACH;FMTTYPE=image/png:https://saniti.co.nz/wp-content/uploads/SASH.png
END:VEVENT
BEGIN:VTIMEZONE
TZID:Pacific/Auckland
BEGIN:STANDARD
TZOFFSETFROM:+1300
TZOFFSETTO:+1200
DTSTART:20260404T140000
TZNAME:NZST
END:STANDARD
END:VTIMEZONE
END:VCALENDAR
