BEGIN:VCALENDAR
VERSION:2.0
PRODID:-//SANITI//NONSGML Events//EN
CALSCALE:GREGORIAN
X-ORIGINAL-URL:https://saniti.co.nz/events/event/
X-WR-CALDESC:SANITI - Events
BEGIN:VEVENT
UID:20260228T0951Z-1772272279.253-EO-4514-1@139.180.178.34
STATUS:CONFIRMED
DTSTAMP:20260421T225946Z
CREATED:20260226T204837Z
LAST-MODIFIED:20260226T204837Z
DTSTART;TZID=Pacific/Auckland:20260327T190000
DTEND;TZID=Pacific/Auckland:20260327T210000
SUMMARY: School’s Back
DESCRIPTION: Local young artists take the stage plus headline act Emerson j
 oins us from Auckland. Small venue\, big atmosphere. Hosted at Waa! Club – 
 $10 Standard entry / $5 for Members and Youth – grab them HERE
X-ALT-DESC;FMTTYPE=text/html: <p>Local young artists take the stage plus he
 adline act Emerson joins us from Auckland.</p><p>Small venue\, big atmosphe
 re.</p><p>Hosted at Waa! Club - <strong>$10 Standard entry / $5 for Members
  and Youth - </strong>grab them <a href="https://www.eventfinda.co.nz/2026/
 schools-back/nelson-tasman/tickets"><strong>HERE</strong></a></p>
CATEGORIES:Other (Nelson)
LOCATION:WAA! Club
GEO:-41.272488;173.288153
ORGANIZER;CN="sanitimarketing":MAILTO:marketing@saniti.co.nz
URL;VALUE=URI:https://saniti.co.nz/events/event/schools-back/
ATTACH;FMTTYPE=image/jpeg:https://saniti.co.nz/wp-content/uploads/schools-back.jpg
END:VEVENT
BEGIN:VTIMEZONE
TZID:Pacific/Auckland
BEGIN:DAYLIGHT
TZOFFSETFROM:+1200
TZOFFSETTO:+1300
DTSTART:20250927T140000
TZNAME:NZDT
END:DAYLIGHT
END:VTIMEZONE
END:VCALENDAR
