BEGIN:VCALENDAR
VERSION:2.0
PRODID:-//SANITI//NONSGML Events//EN
CALSCALE:GREGORIAN
X-ORIGINAL-URL:https://saniti.co.nz/events/event/
X-WR-CALDESC:SANITI - Events
BEGIN:VEVENT
UID:20231223T0148Z-1703296117.0182-EO-1911-1@149.28.176.14
STATUS:CONFIRMED
DTSTAMP:20260420T213042Z
CREATED:20231129T235523Z
LAST-MODIFIED:20231129T235523Z
DTSTART;VALUE=DATE:20240722
DTEND;VALUE=DATE:20240723
SUMMARY: Semester 2 begins!
X-ALT-DESC;FMTTYPE=text/html: 
CATEGORIES:Public Holiday
ORGANIZER;CN="sanitimarketing":MAILTO:marketing@saniti.co.nz
URL;VALUE=URI:https://saniti.co.nz/events/event/semester-2-begins/
END:VEVENT
BEGIN:VTIMEZONE
TZID:Pacific/Auckland
BEGIN:STANDARD
TZOFFSETFROM:+1300
TZOFFSETTO:+1200
DTSTART:20240406T140000
TZNAME:NZST
END:STANDARD
END:VTIMEZONE
END:VCALENDAR
