BEGIN:VCALENDAR
VERSION:2.0
PRODID:-//SANITI//NONSGML Events//EN
CALSCALE:GREGORIAN
X-ORIGINAL-URL:https://saniti.co.nz/events/event/
X-WR-CALDESC:SANITI - Events
BEGIN:VEVENT
UID:20260321T0344Z-1774064677.9216-EO-4585-1@139.180.178.34
STATUS:CONFIRMED
DTSTAMP:20260423T025522Z
CREATED:20260318T224927Z
LAST-MODIFIED:20260318T224927Z
DTSTART;TZID=Pacific/Auckland:20260329T120000
DTEND;TZID=Pacific/Auckland:20260329T200000
RDATE;TZID=Pacific/Auckland:20260426T120000,20260531T120000,20260628T120000,20260726T120000,20260830T120000,20260927T120000,20261025T120000,20261129T120000,20261227T120000,20270131T120000,20270228T120000,20270328T120000,20270425T120000
SUMMARY: Signature Sundays
DESCRIPTION: Join us on the last Sunday of every month for the ultimate Sun
 day session! Sip drink specials all day\, soak up sun-drenched courtyard vi
 bes\, and let a carefully curated live band set the tone\, handpicked to ma
 ke each Sunday signature. Think garden-party energy\, epic music\, and drin
 ks flowing all day\, this is your monthly dose […]
X-ALT-DESC;FMTTYPE=text/html: <div class="xdj266r x14z9mp xat24cr x1lziwak 
 x1vvkbs">Join us on the last Sunday of every month for the ultimate Sunday 
 session!</div><div class="x14z9mp xat24cr x1lziwak x1vvkbs xtlvy1s">Sip dri
 nk specials all day\, soak up sun-drenched courtyard vibes\, and let a care
 fully curated live band set the tone\, handpicked to make each Sunday signa
 ture.</div><div class="x14z9mp xat24cr x1lziwak x1vvkbs xtlvy1s">Think gard
 en-party energy\, epic music\, and drinks flowing all day\, this is your mo
 nthly dose of sunshine\, style\, and good company.</div><div class="x14z9mp
  xat24cr x1lziwak x1vvkbs xtlvy1s">Keep your eyes peeled for the upcoming t
 hemes and offerings!</div>
CATEGORIES:Other (Nelson)
LOCATION:Fannys Nelson Pub
GEO:-41.274098;173.285061
ORGANIZER;CN="sanitimarketing":MAILTO:marketing@saniti.co.nz
URL;VALUE=URI:https://saniti.co.nz/events/event/signature-sundays/
ATTACH;FMTTYPE=image/jpeg:https://saniti.co.nz/wp-content/uploads/fannys-sundays.jpg
END:VEVENT
BEGIN:VTIMEZONE
TZID:Pacific/Auckland
BEGIN:DAYLIGHT
TZOFFSETFROM:+1200
TZOFFSETTO:+1300
DTSTART:20250927T140000
TZNAME:NZDT
END:DAYLIGHT
BEGIN:STANDARD
TZOFFSETFROM:+1300
TZOFFSETTO:+1200
DTSTART:20260404T140000
TZNAME:NZST
END:STANDARD
BEGIN:DAYLIGHT
TZOFFSETFROM:+1200
TZOFFSETTO:+1300
DTSTART:20260926T140000
TZNAME:NZDT
END:DAYLIGHT
BEGIN:STANDARD
TZOFFSETFROM:+1300
TZOFFSETTO:+1200
DTSTART:20270403T140000
TZNAME:NZST
END:STANDARD
END:VTIMEZONE
END:VCALENDAR
