BEGIN:VCALENDAR
VERSION:2.0
PRODID:-//SANITI//NONSGML Events//EN
CALSCALE:GREGORIAN
X-ORIGINAL-URL:https://saniti.co.nz/events/event/
X-WR-CALDESC:SANITI - Events
BEGIN:VEVENT
UID:20250314T0724Z-1741937082.2066-EO-3233-1@149.28.176.14
STATUS:CONFIRMED
DTSTAMP:20260423T214311Z
CREATED:20250313T233329Z
LAST-MODIFIED:20250318T221528Z
DTSTART;TZID=Pacific/Auckland:20250320T120000
DTEND;TZID=Pacific/Auckland:20250320T130000
SUMMARY: Student Voice Meeting!
DESCRIPTION: You maybe paying MORE and getting LESS!.. and we need to talk 
 about it! 12-1PM Thursday 20th – Kōwhai Lounge\, Nelson Campus In this Stud
 ent Voice Meeting we will be talking about the 6% Student Levy Fee (CSSF) a
 nd whether you would want to be consulted or have joint decision making. Yo
 u need to know […]
X-ALT-DESC;FMTTYPE=text/html: <p>You maybe paying MORE and getting LESS!.. 
 and we need to talk about it!</p><p>12-1PM Thursday 20<sup>th</sup> – Kōwha
 i Lounge\, Nelson Campus</p><p>In this Student Voice Meeting we will be tal
 king about the 6% Student Levy Fee (CSSF) and whether you would want to be 
 consulted or have joint decision making. You need to know what's happening 
 so we are here to tell you.</p><p>Bring you friends\, your frenemies\, your
  study buddy\, bring your whole class if you can because a crowd can’t be i
 gnored!</p><p> </p><p> </p><p> </p>
CATEGORIES:Nelson Event,Other (Nelson)
LOCATION:Nelson Campus
GEO:-41.275452;173.288770
ORGANIZER;CN="sanitimarketing":MAILTO:marketing@saniti.co.nz
URL;VALUE=URI:https://saniti.co.nz/events/event/student-voice-meeting/
END:VEVENT
BEGIN:VTIMEZONE
TZID:Pacific/Auckland
BEGIN:DAYLIGHT
TZOFFSETFROM:+1200
TZOFFSETTO:+1300
DTSTART:20240928T140000
TZNAME:NZDT
END:DAYLIGHT
END:VTIMEZONE
END:VCALENDAR
