BEGIN:VCALENDAR
VERSION:2.0
PRODID:-//SANITI//NONSGML Events//EN
CALSCALE:GREGORIAN
X-ORIGINAL-URL:https://saniti.co.nz/events/event/
X-WR-CALDESC:SANITI - Events
BEGIN:VEVENT
UID:20240604T0725Z-1717485904.5163-EO-2449-1@149.28.176.14
STATUS:CONFIRMED
DTSTAMP:20260425T154458Z
CREATED:20240604T013632Z
LAST-MODIFIED:20240604T014147Z
DTSTART;TZID=Pacific/Auckland:20240617T120000
DTEND;TZID=Pacific/Auckland:20240617T130000
SUMMARY: TABLE TENNIS TOURNAMENT
DESCRIPTION: Join us for the Ultimate Table Tennis Tournament! ?? Compete a
 gainst fellow players\, showcase your skills\, and WIN amazing prizes! MOND
 AY 17 JUNE 12PM\, STUDENT CENTRE! Register now at the SANITI Office!  
X-ALT-DESC;FMTTYPE=text/html: <p>Join us for the Ultimate Table Tennis Tour
 nament! ??</p><p>Compete against fellow players\, showcase your skills\, an
 d WIN amazing prizes!</p><p>MONDAY 17 JUNE 12PM\, STUDENT CENTRE!</p><p>Reg
 ister now at the SANITI Office!</p><p> </p>
CATEGORIES:Nelson Event
ORGANIZER;CN="sanitimarketing":MAILTO:marketing@saniti.co.nz
URL;VALUE=URI:https://saniti.co.nz/events/event/table-tennis-tournament/
ATTACH;FMTTYPE=image/png:https://saniti.co.nz/wp-content/uploads/TABLE-TENNIS-TOURNAMENT.square-02.png
END:VEVENT
BEGIN:VTIMEZONE
TZID:Pacific/Auckland
BEGIN:STANDARD
TZOFFSETFROM:+1300
TZOFFSETTO:+1200
DTSTART:20240406T140000
TZNAME:NZST
END:STANDARD
END:VTIMEZONE
END:VCALENDAR
