BEGIN:VCALENDAR
VERSION:2.0
PRODID:-//SANITI//NONSGML Events//EN
CALSCALE:GREGORIAN
X-ORIGINAL-URL:https://saniti.co.nz/events/event/
X-WR-CALDESC:SANITI - Events
BEGIN:VEVENT
UID:20241201T1410Z-1733062228.9504-EO-2805-1@149.28.176.14
STATUS:CONFIRMED
DTSTAMP:20260421T171221Z
CREATED:20241128T205205Z
LAST-MODIFIED:20241128T230631Z
DTSTART;TZID=Pacific/Auckland:20250110T210000
DTEND;TZID=Pacific/Auckland:20250110T224000
SUMMARY: The Three Musketeers 1973 – Washbourn Gardens
DESCRIPTION: Gold coin donation The Three Musketeers (1973) PG 106mins : Th
 is swashbuckling adventure brings Alexandre Dumas’ classic tale to life wit
 h a star-studded cast\, including Raquel Welch\, Michael York\, Oliver Reed
 \, and Richard Chamberlain. “The Three Musketeers” follows young d’Artagnan
  as he joins forces with the legendary Musketeers—Athos\, Porthos\, and Ara
 mis—to thwart the schemes of […]
X-ALT-DESC;FMTTYPE=text/html: <p>Gold coin donation</p><p><strong>The Three
  Musketeers (1973) PG 106mins : This swashbuckling adventure brings Alexand
 re Dumas’ classic tale to life with a star-studded cast\, including Raquel 
 Welch\, Michael York\, Oliver Reed\, and Richard Chamberlain. “The Three Mu
 sketeers” follows young d’Artagnan as he joins forces with the legendary Mu
 sketeers—Athos\, Porthos\, and Aramis—to thwart the schemes of Cardinal Ric
 helieu and protect the honour of the Queen. With witty dialogue\, elaborate
  sword fights\, and lavish costumes it captures the spirit of camaraderie a
 nd adventure\, making it a timeless favourite for fans of historical action
  films.</strong></p><p>Each year Summer Movies al Fresco provides a great c
 ollection of movies screened in the beautiful parks of Te Tau Ihu O Waka a 
 Maui (Top of the South). Load up the couch\, gather a group\, a delicious p
 icnic (BYO ok) and join us from 7:30pm to play giant board games or discuss
  the meaning of life under the regions’ glorious summer sunsets. Wrap up wa
 rm and bring a torch to light your way home. If it looks like rain\, text “
 Is it on?” to 022-406-1665 after 7.30pm.</p>
CATEGORIES:Other (Richmond)
ORGANIZER;CN="sanitimarketing":MAILTO:marketing@saniti.co.nz
URL;VALUE=URI:https://saniti.co.nz/events/event/the-three-musketeers-1973-w
 ashbourne-gardens/
ATTACH;FMTTYPE=image/png:https://saniti.co.nz/wp-content/uploads/summer-movies.png
END:VEVENT
BEGIN:VTIMEZONE
TZID:Pacific/Auckland
BEGIN:DAYLIGHT
TZOFFSETFROM:+1200
TZOFFSETTO:+1300
DTSTART:20240928T140000
TZNAME:NZDT
END:DAYLIGHT
END:VTIMEZONE
END:VCALENDAR
