BEGIN:VCALENDAR
VERSION:2.0
PRODID:-//SANITI//NONSGML Events//EN
CALSCALE:GREGORIAN
X-ORIGINAL-URL:https://saniti.co.nz/events/event/
X-WR-CALDESC:SANITI - Events
BEGIN:VEVENT
UID:20241201T0844Z-1733042686.3709-EO-2839-1@149.28.176.14
STATUS:CONFIRMED
DTSTAMP:20260421T164003Z
CREATED:20241128T230208Z
LAST-MODIFIED:20241128T230208Z
DTSTART;TZID=Pacific/Auckland:20250222T100000
DTEND;TZID=Pacific/Auckland:20250222T150000
SUMMARY: Top of The South Motor Show
DESCRIPTION: Top of the South Motor Show at A&P Showgrounds in Richmond\, a
  Family Fun Filled Day with over 300 Displays to View\, Entertainment and C
 ompetitions for All the Family. Entry fee $5.00 per adult \, children under
  15 free. Sales at the gate only
X-ALT-DESC;FMTTYPE=text/html: <p>Top of the South Motor Show at A&P Showgro
 unds in Richmond\, a Family Fun Filled Day with over 300 Displays to View\,
  Entertainment and Competitions for All the Family.</p><p>Entry fee $5.00 p
 er adult \, children under 15 free. Sales at the gate only</p>
CATEGORIES:Other (Richmond)
ORGANIZER;CN="sanitimarketing":MAILTO:marketing@saniti.co.nz
URL;VALUE=URI:https://saniti.co.nz/events/event/top-of-the-south-motor-show
 /
END:VEVENT
BEGIN:VTIMEZONE
TZID:Pacific/Auckland
BEGIN:DAYLIGHT
TZOFFSETFROM:+1200
TZOFFSETTO:+1300
DTSTART:20240928T140000
TZNAME:NZDT
END:DAYLIGHT
END:VTIMEZONE
END:VCALENDAR
