BEGIN:VCALENDAR
VERSION:2.0
PRODID:-//SANITI//NONSGML Events//EN
CALSCALE:GREGORIAN
X-ORIGINAL-URL:https://saniti.co.nz/events/event/
X-WR-CALDESC:SANITI - Events
BEGIN:VEVENT
UID:20260412T1308Z-1775999328.4524-EO-4641-1@139.180.178.34
STATUS:CONFIRMED
DTSTAMP:20260423T032022Z
CREATED:20260407T213516Z
LAST-MODIFIED:20260407T213516Z
DTSTART;TZID=Pacific/Auckland:20260413T100000
DTEND;TZID=Pacific/Auckland:20260413T160000
RRULE:FREQ=WEEKLY;INTERVAL=1;BYDAY=MO;UNTIL=20260426T220000Z
SUMMARY: Tuku 26 Whakatū
DESCRIPTION: Heritage week was an opportunity to enjoy events and activitie
 s based on various heritage themes\, and was\, on the whole\, organised and
  run by Council staff. Heritage week ran during the month of April\, for an
  enormously successful nine years. Festival Dates: March 21 – May 3 2026 Ti
 mes: Check individual listings or programme for times Locations: Nelson […]
X-ALT-DESC;FMTTYPE=text/html: <p>Heritage week was an opportunity to enjoy 
 events and activities based on various heritage themes\, and was\, on the w
 hole\, organised and run by Council staff. Heritage week ran during the mon
 th of April\, for an enormously successful nine years.</p><p data-rte-prese
 rve-empty="true"><strong>Festival Dates: </strong>March 21 - May 3 2026</p>
 <p data-rte-preserve-empty="true"><strong>Times: </strong>Check individual 
 listings or <a href="https://www.tukuwhakatu.nz/our-events-2026">programme<
 /a> for times</p><p data-rte-preserve-empty="true"><strong>Locations: </str
 ong>Nelson & Suburbs - Check individual listings or <a href="https://www.tu
 kuwhakatu.nz/our-events-2026">programme</a> for locations</p><p data-rte-pr
 eserve-empty="true"><strong>Bookings & Entry: </strong>Check individual lis
 tings or <a href="https://www.tukuwhakatu.nz/our-events-2026">programme</a>
  for bookings & entry fees</p><p><a href="https://www.tukuwhakatu.nz/">tuku
 whakatu.nz/</a></p>
CATEGORIES:Other (Nelson)
ORGANIZER;CN="sanitimarketing":MAILTO:marketing@saniti.co.nz
URL;VALUE=URI:https://saniti.co.nz/events/event/tuku-26-whakatu/
ATTACH;FMTTYPE=image/png:https://saniti.co.nz/wp-content/uploads/Tuku-2026-banner.png
END:VEVENT
BEGIN:VTIMEZONE
TZID:Pacific/Auckland
BEGIN:STANDARD
TZOFFSETFROM:+1300
TZOFFSETTO:+1200
DTSTART:20260404T140000
TZNAME:NZST
END:STANDARD
END:VTIMEZONE
END:VCALENDAR
