BEGIN:VCALENDAR
VERSION:2.0
PRODID:-//SANITI//NONSGML Events//EN
CALSCALE:GREGORIAN
X-ORIGINAL-URL:https://saniti.co.nz/events/event/
X-WR-CALDESC:SANITI - Events
BEGIN:VEVENT
UID:20260130T2055Z-1769806542.3818-EO-4453-1@139.180.178.34
STATUS:CONFIRMED
DTSTAMP:20260420T042907Z
CREATED:20260130T014233Z
LAST-MODIFIED:20260130T014233Z
DTSTART;TZID=Pacific/Auckland:20260320T120000
DTEND;TZID=Pacific/Auckland:20260320T133000
SUMMARY: Vero International Festival
DESCRIPTION: The Vero International Festival of Historic Motoring is an eve
 nt organised by the Vintage Car Club of New Zealand Incorporated. Every 4 y
 ears we celebrate veteran\, vintage\, and classic vehicles and the people w
 ho love them. This is an international rally that attracts participants fro
 m all over the world and New Zealand. In 2026 over […]
X-ALT-DESC;FMTTYPE=text/html: <p>The Vero International Festival of Histori
 c Motoring is an event organised by the Vintage Car Club of New Zealand Inc
 orporated.</p><p>Every 4 years we celebrate veteran\, vintage\, and classic
  vehicles and the people who love them. This is an international rally that
  attracts participants from all over the world and New Zealand. In 2026 ove
 r 560 vehicles will be taking part.</p><p>In 2026 this exciting event takes
  place in the Nelson Tasman region over the course of the week of 15th to 2
 1st March. The event will consist of vehicle rallies and public events acro
 ss Nelson Tasman throughout the week. See below for a list of public events
 .</p><p>On each rally day vehicles will stop for lunch in various locations
  across Nelson/Tasman. It’s a great chance to see these vehicles close up a
 nd in action. There will also be two public displays\, one with at least 56
 0 participant’s veteran\, vintage\, and classic vehicles (from early 1900s 
 to 1996) in the Nelson CBD and the other at the Richmond A&P grounds with t
 he same vehicles alongside many more local veteran\, vintage\, and classic 
 vehicles\, plus food trucks and family fun.</p><p>Monday to Friday\, midday
  to 1:30pm\, vehicles will come and go at the following locations as partic
 ipants gather for lunch while exploring the region:</p><p><strong>Monday 16
 th:</strong><br />Kaiteriteri Beach Motor Camp - mostly vintage and classic
  vehicles\;<br />Mapua Wharf - mostly veteran vehicles.</p><p><strong>Tuesd
 ay 17th:</strong><br />Kerr Bay Lake Rotoiti (or St Arnaud Community Hall i
 f raining) - mostly vintage and classic vehicles\;<br />Redstone Golf Park 
 - mostly veteran vehicles.</p><p><strong>Wednesday 18th:</strong><br />Higg
 ins Heritage Park - veteran\, vintage and classic vehicles\;</p><p><strong>
 Thursday 19th:</strong><br />Tapawera Sports Park & School Grounds - mostly
  vintage and classic vehicles\;<br />Ngatimoti School - mostly veteran vehi
 cles.</p><p><strong>Friday 20th:</strong><br />A&P Richmond Park - veteran\
 , vintage and classic vehicles\;</p><p>Public show and shine vehicle displa
 ys will happen twice during the festival and public are invited along to se
 e these beautiful vehicles on display in all their glory:</p><p><strong>Wed
 nesday evening\, Nelson CBD</strong> (exact location to be confirmed)\, 6 t
 o 9pm\, over 560 vintage\, veteran and classic vehicles will be on display 
 while festival participants enjoy a night on the town.</p><p><strong>Saturd
 ay\, A&P Richmond Park</strong>\, 10am to 2pm all participants will display
  their vehicles for the public alongside the Nelson Tasman car community. T
 here will be food carts and interactive displays and games.</p><p>Details m
 ay change and will be updated closer to the event.</p>
CATEGORIES:Other (Richmond)
LOCATION:A&amp\;P Show grounds
GEO:-41.332509;173.177706
ORGANIZER;CN="sanitimarketing":MAILTO:marketing@saniti.co.nz
URL;VALUE=URI:https://saniti.co.nz/events/event/vero-international-festival
 /
ATTACH;FMTTYPE=image/jpeg:https://saniti.co.nz/wp-content/uploads/Vero-international-festival.jpg
END:VEVENT
BEGIN:VTIMEZONE
TZID:Pacific/Auckland
BEGIN:DAYLIGHT
TZOFFSETFROM:+1200
TZOFFSETTO:+1300
DTSTART:20250927T140000
TZNAME:NZDT
END:DAYLIGHT
END:VTIMEZONE
END:VCALENDAR
