BEGIN:VCALENDAR
VERSION:2.0
PRODID:-//SANITI//NONSGML Events//EN
CALSCALE:GREGORIAN
X-ORIGINAL-URL:https://saniti.co.nz/events/event/
X-WR-CALDESC:SANITI - Events
BEGIN:VEVENT
UID:20250115T1309Z-1736946580.2309-EO-2968-1@149.28.176.14
STATUS:CONFIRMED
DTSTAMP:20260423T030112Z
CREATED:20250114T234652Z
LAST-MODIFIED:20250114T234652Z
DTSTART;VALUE=DATE:20250206
DTEND;VALUE=DATE:20250207
SUMMARY: Waitangi Day
DESCRIPTION: NMIT Campuses closed
X-ALT-DESC;FMTTYPE=text/html: <p>NMIT Campuses closed</p>
CATEGORIES:Public Holiday
ORGANIZER;CN="sanitimarketing":MAILTO:marketing@saniti.co.nz
URL;VALUE=URI:https://saniti.co.nz/events/event/waitangi-day-2/
END:VEVENT
BEGIN:VTIMEZONE
TZID:Pacific/Auckland
BEGIN:DAYLIGHT
TZOFFSETFROM:+1200
TZOFFSETTO:+1300
DTSTART:20240928T140000
TZNAME:NZDT
END:DAYLIGHT
END:VTIMEZONE
END:VCALENDAR
