BEGIN:VCALENDAR
VERSION:2.0
PRODID:-//SANITI//NONSGML Events//EN
CALSCALE:GREGORIAN
X-ORIGINAL-URL:https://saniti.co.nz/events/event/
X-WR-CALDESC:SANITI - Events
BEGIN:VEVENT
UID:20241201T0947Z-1733046425.9623-EO-2837-1@149.28.176.14
STATUS:CONFIRMED
DTSTAMP:20260426T100756Z
CREATED:20241128T225722Z
LAST-MODIFIED:20241128T225722Z
DTSTART;TZID=Pacific/Auckland:20250309T110000
DTEND;TZID=Pacific/Auckland:20250309T183000
SUMMARY: White Ferns V Sri Lanka Odi
DESCRIPTION: See and support our New Zealand White Ferns as they take on Sr
 i Lanka women in the first of two One-Day Internationals at Stoke’s beautif
 ul Saxton Oval\, with all the trimmings of a major sporting event. A great 
 day our with friends and family! Get tickets HERE Gates Open: 10:00am Match
  Start Time: 11:00am
X-ALT-DESC;FMTTYPE=text/html: <p>See and support our New Zealand White Fern
 s as they take on Sri Lanka women in the first of two One-Day International
 s at Stoke's beautiful Saxton Oval\, with all the trimmings of a major spor
 ting event. A great day our with friends and family!</p><p>Get tickets <a h
 ref="https://tickets.nzc.nz/shows/Show.aspx?sh=WFSLODIC25">HERE</a></p><p><
 b>Gates Open:</b> 10:00am<br /><b>Match Start Time:</b> 11:00am</p>
CATEGORIES:Other (Richmond)
ORGANIZER;CN="sanitimarketing":MAILTO:marketing@saniti.co.nz
URL;VALUE=URI:https://saniti.co.nz/events/event/white-ferns-v-sri-lanka-odi
 /
END:VEVENT
BEGIN:VTIMEZONE
TZID:Pacific/Auckland
BEGIN:DAYLIGHT
TZOFFSETFROM:+1200
TZOFFSETTO:+1300
DTSTART:20240928T140000
TZNAME:NZDT
END:DAYLIGHT
END:VTIMEZONE
END:VCALENDAR
