BEGIN:VCALENDAR
VERSION:2.0
PRODID:-//SANITI//NONSGML Events//EN
CALSCALE:GREGORIAN
X-ORIGINAL-URL:https://saniti.co.nz/events/event/
X-WR-CALDESC:SANITI - Events
BEGIN:VEVENT
UID:20260325T2009Z-1774469341.3036-EO-4596-1@139.180.178.34
STATUS:CONFIRMED
DTSTAMP:20260423T024223Z
CREATED:20260318T232820Z
LAST-MODIFIED:20260318T232958Z
DTSTART;TZID=Pacific/Auckland:20260426T100000
DTEND;TZID=Pacific/Auckland:20260426T140000
SUMMARY: Woodturning Open Day
DESCRIPTION: OPEN DAY 26th APRIL 10am to 2pm! at Nelson Districts Woodturni
 ng Club (50 Sovereign Street\, Nelson) If you wonder what woodturning is ab
 out\, this is an opportunity to pop in\, meet some of the members\, and see
  what we’re doing. The club is equipped with a number of lathes\, all the t
 ools you need\, training […]
X-ALT-DESC;FMTTYPE=text/html: <div class="xdj266r x14z9mp xat24cr x1lziwak 
 x1vvkbs">OPEN DAY 26th APRIL 10am to 2pm! at Nelson Districts Woodturning C
 lub (50 Sovereign Street\, Nelson)</div><div></div><div class="x14z9mp xat2
 4cr x1lziwak x1vvkbs xtlvy1s">If you wonder what woodturning is about\, thi
 s is an opportunity to pop in\, meet some of the members\, and see what we'
 re doing. The club is equipped with a number of lathes\, all the tools you 
 need\, training courses\, and members eager to share their passion and know
 ledge.</div><div></div><div class="x14z9mp xat24cr x1lziwak x1vvkbs xtlvy1s
 ">Don't wait! Put the date in your diary and we'll see you on the 26th!</di
 v>
CATEGORIES:Other (Nelson)
ORGANIZER;CN="sanitimarketing":MAILTO:marketing@saniti.co.nz
URL;VALUE=URI:https://saniti.co.nz/events/event/woodturning-open-day/
ATTACH;FMTTYPE=image/jpeg:https://saniti.co.nz/wp-content/uploads/wood-turning-open-day.jpg
END:VEVENT
BEGIN:VTIMEZONE
TZID:Pacific/Auckland
BEGIN:STANDARD
TZOFFSETFROM:+1300
TZOFFSETTO:+1200
DTSTART:20260404T140000
TZNAME:NZST
END:STANDARD
END:VTIMEZONE
END:VCALENDAR
